Workbook

Sheet Player Record
A1: SDSC PLAYER RECORD
A3: Player | B3: All
A4: Season | B4: All
A5: Competition | B5: All
A6: Specific | B6: All
A8: STATISTICS
A9: Played | B9: Won | C9: Drawn | D9: Lost | E9: Goals For | F9: Goals Against | G9: Goal Difference | H9: Win % | I9: Points | J9: Points/Game
A10: =SUMPRODUCT(--(((All!$E$2:$E$1000=$B$3)+(All!$G$2:$G$1000=$B$3))>0),--((($B$4="All")+(All!$A$2:$A$1000=$B$4))>0)*--((($B$5="All")+(All!$B$2:$B$1000=$B$5))>0)*--((($B$6="All")+(All!$C$2:$C$1000=$B$6))>0)) -> 0 | B10: =SUMPRODUCT(--(((All!$E$2:$E$1000=$B$3)*(All!$F$2:$F$1000>All!$H$2:$H$1000)+(All!$G$2:$G$1000=$B$3)*(All!$H$2:$H$1000>All!$F$2:$F$1000))>0),--((($B$4="All")+(All!$A$2:$A$1000=$B$4))>0)*--((($B$5="All")+(All!$B$2:$B$1000=$B$5))>0)*--((($B$6="All")+(All!$C$2:$C$1000=$B$6))>0)) -> 0 | C10: =SUMPRODUCT(--(((All!$E$2:$E$1000=$B$3)+(All!$G$2:$G$1000=$B$3))>0),--(All!$F$2:$F$1000=All!$H$2:$H$1000),--((($B$4="All")+(All!$A$2:$A$1000=$B$4))>0)*--((($B$5="All")+(All!$B$2:$B$1000=$B$5))>0)*--((($B$6="All")+(All!$C$2:$C$1000=$B$6))>0)) -> 0 | D10: =A10-B10-C10 -> 0 | E10: =SUMPRODUCT(--(All!$E$2:$E$1000=$B$3),All!$F$2:$F$1000,--((($B$4="All")+(All!$A$2:$A$1000=$B$4))>0)*--((($B$5="All")+(All!$B$2:$B$1000=$B$5))>0)*--((($B$6="All")+(All!$C$2:$C$1000=$B$6))>0))+SUMPRODUCT(--(All!$G$2:$G$1000=$B$3),All!$H$2:$H$1000,--((($B$4="All")+(All!$A$2:$A$1000=$B$4))>0)*--((($B$5="All")+(All!$B$2:$B$1000=$B$5))>0)*--((($B$6="All")+(All!$C$2:$C$1000=$B$6))>0)) -> 0 | F10: =SUMPRODUCT(--(All!$E$2:$E$1000=$B$3),All!$H$2:$H$1000,--((($B$4="All")+(All!$A$2:$A$1000=$B$4))>0)*--((($B$5="All")+(All!$B$2:$B$1000=$B$5))>0)*--((($B$6="All")+(All!$C$2:$C$1000=$B$6))>0))+SUMPRODUCT(--(All!$G$2:$G$1000=$B$3),All!$F$2:$F$1000,--((($B$4="All")+(All!$A$2:$A$1000=$B$4))>0)*--((($B$5="All")+(All!$B$2:$B$1000=$B$5))>0)*--((($B$6="All")+(All!$C$2:$C$1000=$B$6))>0)) -> 0 | G10: =E10-F10 -> 0 | H10: =IFERROR(B10/A10,0) -> 0 | I10: =B10*3+C10 -> 0 | J10: =IFERROR(I10/A10,0) -> 0
A13: RECORD AGAINST EVERY OPPONENT
A14: Opponent | B14: Played | C14: Won | D14: Drawn | E14: Lost | F14: GF | G14: GA | H14: GD
A15: Rik | B15: {=SUMPRODUCT(--((((All!$E$2:$E$1000=$B$3)*(All!$G$2:$G$1000=$A15)+(All!$E$2:$E$1000=$A15)*(All!$G$2:$G$1000=$B$3))>0)),--((($B$4="All")+(All!$A$2:$A$1000=$B$4))>0)*--((($B$5="All")+(All!$B$2:$B$1000=$B$5))>0)*--((($B$6="All")+(All!$C$2:$C$1000=$B$6))>0))} -> 0 | C15: =SUMPRODUCT(--(All!$E$2:$E$1000=$B$3),--(All!$G$2:$G$1000=$A15),--(All!$F$2:$F$1000>All!$H$2:$H$1000),--((($B$4="All")+(All!$A$2:$A$1000=$B$4))>0)*--((($B$5="All")+(All!$B$2:$B$1000=$B$5))>0)*--((($B$6="All")+(All!$C$2:$C$1000=$B$6))>0))+SUMPRODUCT(--(All!$G$2:$G$1000=$B$3),--(All!$E$2:$E$1000=$A15),--(All!$H$2:$H$1000>All!$F$2:$F$1000),--((($B$4="All")+(All!$A$2:$A$1000=$B$4))>0)*--((($B$5="All")+(All!$B$2:$B$1000=$B$5))>0)*--((($B$6="All")+(All!$C$2:$C$1000=$B$6))>0)) -> 0 | D15: =SUMPRODUCT(--((((All!$E$2:$E$1000=$B$3)*(All!$G$2:$G$1000=$A15)+(All!$E$2:$E$1000=$A15)*(All!$G$2:$G$1000=$B$3))>0)),--(All!$F$2:$F$1000=All!$H$2:$H$1000),--((($B$4="All")+(All!$A$2:$A$1000=$B$4))>0)*--((($B$5="All")+(All!$B$2:$B$1000=$B$5))>0)*--((($B$6="All")+(All!$C$2:$C$1000=$B$6))>0)) -> 0 | E15: =B15-C15-D15 -> 0 | F15: =SUMPRODUCT(--(All!$E$2:$E$1000=$B$3),--(All!$G$2:$G$1000=$A15),All!$F$2:$F$1000,--((($B$4="All")+(All!$A$2:$A$1000=$B$4))>0)*--((($B$5="All")+(All!$B$2:$B$1000=$B$5))>0)*--((($B$6="All")+(All!$C$2:$C$1000=$B$6))>0))+SUMPRODUCT(--(All!$G$2:$G$1000=$B$3),--(All!$E$2:$E$1000=$A15),All!$H$2:$H$1000,--((($B$4="All")+(All!$A$2:$A$1000=$B$4))>0)*--((($B$5="All")+(All!$B$2:$B$1000=$B$5))>0)*--((($B$6="All")+(All!$C$2:$C$1000=$B$6))>0)) -> 0 | G15: =SUMPRODUCT(--(All!$E$2:$E$1000=$B$3),--(All!$G$2:$G$1000=$A15),All!$H$2:$H$1000,--((($B$4="All")+(All!$A$2:$A$1000=$B$4))>0)*--((($B$5="All")+(All!$B$2:$B$1000=$B$5))>0)*--((($B$6="All")+(All!$C$2:$C$1000=$B$6))>0))+SUMPRODUCT(--(All!$G$2:$G$1000=$B$3),--(All!$E$2:$E$1000=$A15),All!$F$2:$F$1000,--((($B$4="All")+(All!$A$2:$A$1000=$B$4))>0)*--((($B$5="All")+(All!$B$2:$B$1000=$B$5))>0)*--((($B$6="All")+(All!$C$2:$C$1000=$B$6))>0)) -> 0 | H15: =F15-G15 -> 0
A16: Bill | B16: =SUMPRODUCT(--((((All!$E$2:$E$1000=$B$3)*(All!$G$2:$G$1000=$A16)+(All!$E$2:$E$1000=$A16)*(All!$G$2:$G$1000=$B$3))>0)),--((($B$4="All")+(All!$A$2:$A$1000=$B$4))>0)*--((($B$5="All")+(All!$B$2:$B$1000=$B$5))>0)*--((($B$6="All")+(All!$C$2:$C$1000=$B$6))>0)) -> 0 | C16: =SUMPRODUCT(--(All!$E$2:$E$1000=$B$3),--(All!$G$2:$G$1000=$A16),--(All!$F$2:$F$1000>All!$H$2:$H$1000),--((($B$4="All")+(All!$A$2:$A$1000=$B$4))>0)*--((($B$5="All")+(All!$B$2:$B$1000=$B$5))>0)*--((($B$6="All")+(All!$C$2:$C$1000=$B$6))>0))+SUMPRODUCT(--(All!$G$2:$G$1000=$B$3),--(All!$E$2:$E$1000=$A16),--(All!$H$2:$H$1000>All!$F$2:$F$1000),--((($B$4="All")+(All!$A$2:$A$1000=$B$4))>0)*--((($B$5="All")+(All!$B$2:$B$1000=$B$5))>0)*--((($B$6="All")+(All!$C$2:$C$1000=$B$6))>0)) -> 0 | D16: =SUMPRODUCT(--((((All!$E$2:$E$1000=$B$3)*(All!$G$2:$G$1000=$A16)+(All!$E$2:$E$1000=$A16)*(All!$G$2:$G$1000=$B$3))>0)),--(All!$F$2:$F$1000=All!$H$2:$H$1000),--((($B$4="All")+(All!$A$2:$A$1000=$B$4))>0)*--((($B$5="All")+(All!$B$2:$B$1000=$B$5))>0)*--((($B$6="All")+(All!$C$2:$C$1000=$B$6))>0)) -> 0 | E16: =B16-C16-D16 -> 0 | F16: =SUMPRODUCT(--(All!$E$2:$E$1000=$B$3),--(All!$G$2:$G$1000=$A16),All!$F$2:$F$1000,--((($B$4="All")+(All!$A$2:$A$1000=$B$4))>0)*--((($B$5="All")+(All!$B$2:$B$1000=$B$5))>0)*--((($B$6="All")+(All!$C$2:$C$1000=$B$6))>0))+SUMPRODUCT(--(All!$G$2:$G$1000=$B$3),--(All!$E$2:$E$1000=$A16),All!$H$2:$H$1000,--((($B$4="All")+(All!$A$2:$A$1000=$B$4))>0)*--((($B$5="All")+(All!$B$2:$B$1000=$B$5))>0)*--((($B$6="All")+(All!$C$2:$C$1000=$B$6))>0)) -> 0 | G16: =SUMPRODUCT(--(All!$E$2:$E$1000=$B$3),--(All!$G$2:$G$1000=$A16),All!$H$2:$H$1000,--((($B$4="All")+(All!$A$2:$A$1000=$B$4))>0)*--((($B$5="All")+(All!$B$2:$B$1000=$B$5))>0)*--((($B$6="All")+(All!$C$2:$C$1000=$B$6))>0))+SUMPRODUCT(--(All!$G$2:$G$1000=$B$3),--(All!$E$2:$E$1000=$A16),All!$F$2:$F$1000,--((($B$4="All")+(All!$A$2:$A$1000=$B$4))>0)*--((($B$5="All")+(All!$B$2:$B$1000=$B$5))>0)*--((($B$6="All")+(All!$C$2:$C$1000=$B$6))>0)) -> 0 | H16: =F16-G16 -> 0
A17: Marcus | B17: =SUMPRODUCT(--((((All!$E$2:$E$1000=$B$3)*(All!$G$2:$G$1000=$A17)+(All!$E$2:$E$1000=$A17)*(All!$G$2:$G$1000=$B$3))>0)),--((($B$4="All")+(All!$A$2:$A$1000=$B$4))>0)*--((($B$5="All")+(All!$B$2:$B$1000=$B$5))>0)*--((($B$6="All")+(All!$C$2:$C$1000=$B$6))>0)) -> 0 | C17: =SUMPRODUCT(--(All!$E$2:$E$1000=$B$3),--(All!$G$2:$G$1000=$A17),--(All!$F$2:$F$1000>All!$H$2:$H$1000),--((($B$4="All")+(All!$A$2:$A$1000=$B$4))>0)*--((($B$5="All")+(All!$B$2:$B$1000=$B$5))>0)*--((($B$6="All")+(All!$C$2:$C$1000=$B$6))>0))+SUMPRODUCT(--(All!$G$2:$G$1000=$B$3),--(All!$E$2:$E$1000=$A17),--(All!$H$2:$H$1000>All!$F$2:$F$1000),--((($B$4="All")+(All!$A$2:$A$1000=$B$4))>0)*--((($B$5="All")+(All!$B$2:$B$1000=$B$5))>0)*--((($B$6="All")+(All!$C$2:$C$1000=$B$6))>0)) -> 0 | D17: =SUMPRODUCT(--((((All!$E$2:$E$1000=$B$3)*(All!$G$2:$G$1000=$A17)+(All!$E$2:$E$1000=$A17)*(All!$G$2:$G$1000=$B$3))>0)),--(All!$F$2:$F$1000=All!$H$2:$H$1000),--((($B$4="All")+(All!$A$2:$A$1000=$B$4))>0)*--((($B$5="All")+(All!$B$2:$B$1000=$B$5))>0)*--((($B$6="All")+(All!$C$2:$C$1000=$B$6))>0)) -> 0 | E17: =B17-C17-D17 -> 0 | F17: =SUMPRODUCT(--(All!$E$2:$E$1000=$B$3),--(All!$G$2:$G$1000=$A17),All!$F$2:$F$1000,--((($B$4="All")+(All!$A$2:$A$1000=$B$4))>0)*--((($B$5="All")+(All!$B$2:$B$1000=$B$5))>0)*--((($B$6="All")+(All!$C$2:$C$1000=$B$6))>0))+SUMPRODUCT(--(All!$G$2:$G$1000=$B$3),--(All!$E$2:$E$1000=$A17),All!$H$2:$H$1000,--((($B$4="All")+(All!$A$2:$A$1000=$B$4))>0)*--((($B$5="All")+(All!$B$2:$B$1000=$B$5))>0)*--((($B$6="All")+(All!$C$2:$C$1000=$B$6))>0)) -> 0 | G17: =SUMPRODUCT(--(All!$E$2:$E$1000=$B$3),--(All!$G$2:$G$1000=$A17),All!$H$2:$H$1000,--((($B$4="All")+(All!$A$2:$A$1000=$B$4))>0)*--((($B$5="All")+(All!$B$2:$B$1000=$B$5))>0)*--((($B$6="All")+(All!$C$2:$C$1000=$B$6))>0))+SUMPRODUCT(--(All!$G$2:$G$1000=$B$3),--(All!$E$2:$E$1000=$A17),All!$F$2:$F$1000,--((($B$4="All")+(All!$A$2:$A$1000=$B$4))>0)*--((($B$5="All")+(All!$B$2:$B$1000=$B$5))>0)*--((($B$6="All")+(All!$C$2:$C$1000=$B$6))>0)) -> 0 | H17: =F17-G17 -> 0
A18: Oakley | B18: =SUMPRODUCT(--((((All!$E$2:$E$1000=$B$3)*(All!$G$2:$G$1000=$A18)+(All!$E$2:$E$1000=$A18)*(All!$G$2:$G$1000=$B$3))>0)),--((($B$4="All")+(All!$A$2:$A$1000=$B$4))>0)*--((($B$5="All")+(All!$B$2:$B$1000=$B$5))>0)*--((($B$6="All")+(All!$C$2:$C$1000=$B$6))>0)) -> 0 | C18: =SUMPRODUCT(--(All!$E$2:$E$1000=$B$3),--(All!$G$2:$G$1000=$A18),--(All!$F$2:$F$1000>All!$H$2:$H$1000),--((($B$4="All")+(All!$A$2:$A$1000=$B$4))>0)*--((($B$5="All")+(All!$B$2:$B$1000=$B$5))>0)*--((($B$6="All")+(All!$C$2:$C$1000=$B$6))>0))+SUMPRODUCT(--(All!$G$2:$G$1000=$B$3),--(All!$E$2:$E$1000=$A18),--(All!$H$2:$H$1000>All!$F$2:$F$1000),--((($B$4="All")+(All!$A$2:$A$1000=$B$4))>0)*--((($B$5="All")+(All!$B$2:$B$1000=$B$5))>0)*--((($B$6="All")+(All!$C$2:$C$1000=$B$6))>0)) -> 0 | D18: =SUMPRODUCT(--((((All!$E$2:$E$1000=$B$3)*(All!$G$2:$G$1000=$A18)+(All!$E$2:$E$1000=$A18)*(All!$G$2:$G$1000=$B$3))>0)),--(All!$F$2:$F$1000=All!$H$2:$H$1000),--((($B$4="All")+(All!$A$2:$A$1000=$B$4))>0)*--((($B$5="All")+(All!$B$2:$B$1000=$B$5))>0)*--((($B$6="All")+(All!$C$2:$C$1000=$B$6))>0)) -> 0 | E18: =B18-C18-D18 -> 0 | F18: =SUMPRODUCT(--(All!$E$2:$E$1000=$B$3),--(All!$G$2:$G$1000=$A18),All!$F$2:$F$1000,--((($B$4="All")+(All!$A$2:$A$1000=$B$4))>0)*--((($B$5="All")+(All!$B$2:$B$1000=$B$5))>0)*--((($B$6="All")+(All!$C$2:$C$1000=$B$6))>0))+SUMPRODUCT(--(All!$G$2:$G$1000=$B$3),--(All!$E$2:$E$1000=$A18),All!$H$2:$H$1000,--((($B$4="All")+(All!$A$2:$A$1000=$B$4))>0)*--((($B$5="All")+(All!$B$2:$B$1000=$B$5))>0)*--((($B$6="All")+(All!$C$2:$C$1000=$B$6))>0)) -> 0 | G18: =SUMPRODUCT(--(All!$E$2:$E$1000=$B$3),--(All!$G$2:$G$1000=$A18),All!$H$2:$H$1000,--((($B$4="All")+(All!$A$2:$A$1000=$B$4))>0)*--((($B$5="All")+(All!$B$2:$B$1000=$B$5))>0)*--((($B$6="All")+(All!$C$2:$C$1000=$B$6))>0))+SUMPRODUCT(--(All!$G$2:$G$1000=$B$3),--(All!$E$2:$E$1000=$A18),All!$F$2:$F$1000,--((($B$4="All")+(All!$A$2:$A$1000=$B$4))>0)*--((($B$5="All")+(All!$B$2:$B$1000=$B$5))>0)*--((($B$6="All")+(All!$C$2:$C$1000=$B$6))>0)) -> 0 | H18: =F18-G18 -> 0
A19: Simon | B19: =SUMPRODUCT(--((((All!$E$2:$E$1000=$B$3)*(All!$G$2:$G$1000=$A19)+(All!$E$2:$E$1000=$A19)*(All!$G$2:$G$1000=$B$3))>0)),--((($B$4="All")+(All!$A$2:$A$1000=$B$4))>0)*--((($B$5="All")+(All!$B$2:$B$1000=$B$5))>0)*--((($B$6="All")+(All!$C$2:$C$1000=$B$6))>0)) -> 0 | C19: =SUMPRODUCT(--(All!$E$2:$E$1000=$B$3),--(All!$G$2:$G$1000=$A19),--(All!$F$2:$F$1000>All!$H$2:$H$1000),--((($B$4="All")+(All!$A$2:$A$1000=$B$4))>0)*--((($B$5="All")+(All!$B$2:$B$1000=$B$5))>0)*--((($B$6="All")+(All!$C$2:$C$1000=$B$6))>0))+SUMPRODUCT(--(All!$G$2:$G$1000=$B$3),--(All!$E$2:$E$1000=$A19),--(All!$H$2:$H$1000>All!$F$2:$F$1000),--((($B$4="All")+(All!$A$2:$A$1000=$B$4))>0)*--((($B$5="All")+(All!$B$2:$B$1000=$B$5))>0)*--((($B$6="All")+(All!$C$2:$C$1000=$B$6))>0)) -> 0 | D19: =SUMPRODUCT(--((((All!$E$2:$E$1000=$B$3)*(All!$G$2:$G$1000=$A19)+(All!$E$2:$E$1000=$A19)*(All!$G$2:$G$1000=$B$3))>0)),--(All!$F$2:$F$1000=All!$H$2:$H$1000),--((($B$4="All")+(All!$A$2:$A$1000=$B$4))>0)*--((($B$5="All")+(All!$B$2:$B$1000=$B$5))>0)*--((($B$6="All")+(All!$C$2:$C$1000=$B$6))>0)) -> 0 | E19: =B19-C19-D19 -> 0 | F19: =SUMPRODUCT(--(All!$E$2:$E$1000=$B$3),--(All!$G$2:$G$1000=$A19),All!$F$2:$F$1000,--((($B$4="All")+(All!$A$2:$A$1000=$B$4))>0)*--((($B$5="All")+(All!$B$2:$B$1000=$B$5))>0)*--((($B$6="All")+(All!$C$2:$C$1000=$B$6))>0))+SUMPRODUCT(--(All!$G$2:$G$1000=$B$3),--(All!$E$2:$E$1000=$A19),All!$H$2:$H$1000,--((($B$4="All")+(All!$A$2:$A$1000=$B$4))>0)*--((($B$5="All")+(All!$B$2:$B$1000=$B$5))>0)*--((($B$6="All")+(All!$C$2:$C$1000=$B$6))>0)) -> 0 | G19: =SUMPRODUCT(--(All!$E$2:$E$1000=$B$3),--(All!$G$2:$G$1000=$A19),All!$H$2:$H$1000,--((($B$4="All")+(All!$A$2:$A$1000=$B$4))>0)*--((($B$5="All")+(All!$B$2:$B$1000=$B$5))>0)*--((($B$6="All")+(All!$C$2:$C$1000=$B$6))>0))+SUMPRODUCT(--(All!$G$2:$G$1000=$B$3),--(All!$E$2:$E$1000=$A19),All!$F$2:$F$1000,--((($B$4="All")+(All!$A$2:$A$1000=$B$4))>0)*--((($B$5="All")+(All!$B$2:$B$1000=$B$5))>0)*--((($B$6="All")+(All!$C$2:$C$1000=$B$6))>0)) -> 0 | H19: =F19-G19 -> 0
A20: Peter | B20: =SUMPRODUCT(--((((All!$E$2:$E$1000=$B$3)*(All!$G$2:$G$1000=$A20)+(All!$E$2:$E$1000=$A20)*(All!$G$2:$G$1000=$B$3))>0)),--((($B$4="All")+(All!$A$2:$A$1000=$B$4))>0)*--((($B$5="All")+(All!$B$2:$B$1000=$B$5))>0)*--((($B$6="All")+(All!$C$2:$C$1000=$B$6))>0)) -> 0 | C20: =SUMPRODUCT(--(All!$E$2:$E$1000=$B$3),--(All!$G$2:$G$1000=$A20),--(All!$F$2:$F$1000>All!$H$2:$H$1000),--((($B$4="All")+(All!$A$2:$A$1000=$B$4))>0)*--((($B$5="All")+(All!$B$2:$B$1000=$B$5))>0)*--((($B$6="All")+(All!$C$2:$C$1000=$B$6))>0))+SUMPRODUCT(--(All!$G$2:$G$1000=$B$3),--(All!$E$2:$E$1000=$A20),--(All!$H$2:$H$1000>All!$F$2:$F$1000),--((($B$4="All")+(All!$A$2:$A$1000=$B$4))>0)*--((($B$5="All")+(All!$B$2:$B$1000=$B$5))>0)*--((($B$6="All")+(All!$C$2:$C$1000=$B$6))>0)) -> 0 | D20: =SUMPRODUCT(--((((All!$E$2:$E$1000=$B$3)*(All!$G$2:$G$1000=$A20)+(All!$E$2:$E$1000=$A20)*(All!$G$2:$G$1000=$B$3))>0)),--(All!$F$2:$F$1000=All!$H$2:$H$1000),--((($B$4="All")+(All!$A$2:$A$1000=$B$4))>0)*--((($B$5="All")+(All!$B$2:$B$1000=$B$5))>0)*--((($B$6="All")+(All!$C$2:$C$1000=$B$6))>0)) -> 0 | E20: =B20-C20-D20 -> 0 | F20: =SUMPRODUCT(--(All!$E$2:$E$1000=$B$3),--(All!$G$2:$G$1000=$A20),All!$F$2:$F$1000,--((($B$4="All")+(All!$A$2:$A$1000=$B$4))>0)*--((($B$5="All")+(All!$B$2:$B$1000=$B$5))>0)*--((($B$6="All")+(All!$C$2:$C$1000=$B$6))>0))+SUMPRODUCT(--(All!$G$2:$G$1000=$B$3),--(All!$E$2:$E$1000=$A20),All!$H$2:$H$1000,--((($B$4="All")+(All!$A$2:$A$1000=$B$4))>0)*--((($B$5="All")+(All!$B$2:$B$1000=$B$5))>0)*--((($B$6="All")+(All!$C$2:$C$1000=$B$6))>0)) -> 0 | G20: =SUMPRODUCT(--(All!$E$2:$E$1000=$B$3),--(All!$G$2:$G$1000=$A20),All!$H$2:$H$1000,--((($B$4="All")+(All!$A$2:$A$1000=$B$4))>0)*--((($B$5="All")+(All!$B$2:$B$1000=$B$5))>0)*--((($B$6="All")+(All!$C$2:$C$1000=$B$6))>0))+SUMPRODUCT(--(All!$G$2:$G$1000=$B$3),--(All!$E$2:$E$1000=$A20),All!$F$2:$F$1000,--((($B$4="All")+(All!$A$2:$A$1000=$B$4))>0)*--((($B$5="All")+(All!$B$2:$B$1000=$B$5))>0)*--((($B$6="All")+(All!$C$2:$C$1000=$B$6))>0)) -> 0 | H20: =F20-G20 -> 0
A21: Bob | B21: =SUMPRODUCT(--((((All!$E$2:$E$1000=$B$3)*(All!$G$2:$G$1000=$A21)+(All!$E$2:$E$1000=$A21)*(All!$G$2:$G$1000=$B$3))>0)),--((($B$4="All")+(All!$A$2:$A$1000=$B$4))>0)*--((($B$5="All")+(All!$B$2:$B$1000=$B$5))>0)*--((($B$6="All")+(All!$C$2:$C$1000=$B$6))>0)) -> 0 | C21: =SUMPRODUCT(--(All!$E$2:$E$1000=$B$3),--(All!$G$2:$G$1000=$A21),--(All!$F$2:$F$1000>All!$H$2:$H$1000),--((($B$4="All")+(All!$A$2:$A$1000=$B$4))>0)*--((($B$5="All")+(All!$B$2:$B$1000=$B$5))>0)*--((($B$6="All")+(All!$C$2:$C$1000=$B$6))>0))+SUMPRODUCT(--(All!$G$2:$G$1000=$B$3),--(All!$E$2:$E$1000=$A21),--(All!$H$2:$H$1000>All!$F$2:$F$1000),--((($B$4="All")+(All!$A$2:$A$1000=$B$4))>0)*--((($B$5="All")+(All!$B$2:$B$1000=$B$5))>0)*--((($B$6="All")+(All!$C$2:$C$1000=$B$6))>0)) -> 0 | D21: =SUMPRODUCT(--((((All!$E$2:$E$1000=$B$3)*(All!$G$2:$G$1000=$A21)+(All!$E$2:$E$1000=$A21)*(All!$G$2:$G$1000=$B$3))>0)),--(All!$F$2:$F$1000=All!$H$2:$H$1000),--((($B$4="All")+(All!$A$2:$A$1000=$B$4))>0)*--((($B$5="All")+(All!$B$2:$B$1000=$B$5))>0)*--((($B$6="All")+(All!$C$2:$C$1000=$B$6))>0)) -> 0 | E21: =B21-C21-D21 -> 0 | F21: =SUMPRODUCT(--(All!$E$2:$E$1000=$B$3),--(All!$G$2:$G$1000=$A21),All!$F$2:$F$1000,--((($B$4="All")+(All!$A$2:$A$1000=$B$4))>0)*--((($B$5="All")+(All!$B$2:$B$1000=$B$5))>0)*--((($B$6="All")+(All!$C$2:$C$1000=$B$6))>0))+SUMPRODUCT(--(All!$G$2:$G$1000=$B$3),--(All!$E$2:$E$1000=$A21),All!$H$2:$H$1000,--((($B$4="All")+(All!$A$2:$A$1000=$B$4))>0)*--((($B$5="All")+(All!$B$2:$B$1000=$B$5))>0)*--((($B$6="All")+(All!$C$2:$C$1000=$B$6))>0)) -> 0 | G21: =SUMPRODUCT(--(All!$E$2:$E$1000=$B$3),--(All!$G$2:$G$1000=$A21),All!$H$2:$H$1000,--((($B$4="All")+(All!$A$2:$A$1000=$B$4))>0)*--((($B$5="All")+(All!$B$2:$B$1000=$B$5))>0)*--((($B$6="All")+(All!$C$2:$C$1000=$B$6))>0))+SUMPRODUCT(--(All!$G$2:$G$1000=$B$3),--(All!$E$2:$E$1000=$A21),All!$F$2:$F$1000,--((($B$4="All")+(All!$A$2:$A$1000=$B$4))>0)*--((($B$5="All")+(All!$B$2:$B$1000=$B$5))>0)*--((($B$6="All")+(All!$C$2:$C$1000=$B$6))>0)) -> 0 | H21: =F21-G21 -> 0
A22: Ben | B22: =SUMPRODUCT(--((((All!$E$2:$E$1000=$B$3)*(All!$G$2:$G$1000=$A22)+(All!$E$2:$E$1000=$A22)*(All!$G$2:$G$1000=$B$3))>0)),--((($B$4="All")+(All!$A$2:$A$1000=$B$4))>0)*--((($B$5="All")+(All!$B$2:$B$1000=$B$5))>0)*--((($B$6="All")+(All!$C$2:$C$1000=$B$6))>0)) -> 0 | C22: =SUMPRODUCT(--(All!$E$2:$E$1000=$B$3),--(All!$G$2:$G$1000=$A22),--(All!$F$2:$F$1000>All!$H$2:$H$1000),--((($B$4="All")+(All!$A$2:$A$1000=$B$4))>0)*--((($B$5="All")+(All!$B$2:$B$1000=$B$5))>0)*--((($B$6="All")+(All!$C$2:$C$1000=$B$6))>0))+SUMPRODUCT(--(All!$G$2:$G$1000=$B$3),--(All!$E$2:$E$1000=$A22),--(All!$H$2:$H$1000>All!$F$2:$F$1000),--((($B$4="All")+(All!$A$2:$A$1000=$B$4))>0)*--((($B$5="All")+(All!$B$2:$B$1000=$B$5))>0)*--((($B$6="All")+(All!$C$2:$C$1000=$B$6))>0)) -> 0 | D22: =SUMPRODUCT(--((((All!$E$2:$E$1000=$B$3)*(All!$G$2:$G$1000=$A22)+(All!$E$2:$E$1000=$A22)*(All!$G$2:$G$1000=$B$3))>0)),--(All!$F$2:$F$1000=All!$H$2:$H$1000),--((($B$4="All")+(All!$A$2:$A$1000=$B$4))>0)*--((($B$5="All")+(All!$B$2:$B$1000=$B$5))>0)*--((($B$6="All")+(All!$C$2:$C$1000=$B$6))>0)) -> 0 | E22: =B22-C22-D22 -> 0 | F22: =SUMPRODUCT(--(All!$E$2:$E$1000=$B$3),--(All!$G$2:$G$1000=$A22),All!$F$2:$F$1000,--((($B$4="All")+(All!$A$2:$A$1000=$B$4))>0)*--((($B$5="All")+(All!$B$2:$B$1000=$B$5))>0)*--((($B$6="All")+(All!$C$2:$C$1000=$B$6))>0))+SUMPRODUCT(--(All!$G$2:$G$1000=$B$3),--(All!$E$2:$E$1000=$A22),All!$H$2:$H$1000,--((($B$4="All")+(All!$A$2:$A$1000=$B$4))>0)*--((($B$5="All")+(All!$B$2:$B$1000=$B$5))>0)*--((($B$6="All")+(All!$C$2:$C$1000=$B$6))>0)) -> 0 | G22: =SUMPRODUCT(--(All!$E$2:$E$1000=$B$3),--(All!$G$2:$G$1000=$A22),All!$H$2:$H$1000,--((($B$4="All")+(All!$A$2:$A$1000=$B$4))>0)*--((($B$5="All")+(All!$B$2:$B$1000=$B$5))>0)*--((($B$6="All")+(All!$C$2:$C$1000=$B$6))>0))+SUMPRODUCT(--(All!$G$2:$G$1000=$B$3),--(All!$E$2:$E$1000=$A22),All!$F$2:$F$1000,--((($B$4="All")+(All!$A$2:$A$1000=$B$4))>0)*--((($B$5="All")+(All!$B$2:$B$1000=$B$5))>0)*--((($B$6="All")+(All!$C$2:$C$1000=$B$6))>0)) -> 0 | H22: =F22-G22 -> 0
A23: Seb | B23: =SUMPRODUCT(--((((All!$E$2:$E$1000=$B$3)*(All!$G$2:$G$1000=$A23)+(All!$E$2:$E$1000=$A23)*(All!$G$2:$G$1000=$B$3))>0)),--((($B$4="All")+(All!$A$2:$A$1000=$B$4))>0)*--((($B$5="All")+(All!$B$2:$B$1000=$B$5))>0)*--((($B$6="All")+(All!$C$2:$C$1000=$B$6))>0)) -> 0 | C23: =SUMPRODUCT(--(All!$E$2:$E$1000=$B$3),--(All!$G$2:$G$1000=$A23),--(All!$F$2:$F$1000>All!$H$2:$H$1000),--((($B$4="All")+(All!$A$2:$A$1000=$B$4))>0)*--((($B$5="All")+(All!$B$2:$B$1000=$B$5))>0)*--((($B$6="All")+(All!$C$2:$C$1000=$B$6))>0))+SUMPRODUCT(--(All!$G$2:$G$1000=$B$3),--(All!$E$2:$E$1000=$A23),--(All!$H$2:$H$1000>All!$F$2:$F$1000),--((($B$4="All")+(All!$A$2:$A$1000=$B$4))>0)*--((($B$5="All")+(All!$B$2:$B$1000=$B$5))>0)*--((($B$6="All")+(All!$C$2:$C$1000=$B$6))>0)) -> 0 | D23: =SUMPRODUCT(--((((All!$E$2:$E$1000=$B$3)*(All!$G$2:$G$1000=$A23)+(All!$E$2:$E$1000=$A23)*(All!$G$2:$G$1000=$B$3))>0)),--(All!$F$2:$F$1000=All!$H$2:$H$1000),--((($B$4="All")+(All!$A$2:$A$1000=$B$4))>0)*--((($B$5="All")+(All!$B$2:$B$1000=$B$5))>0)*--((($B$6="All")+(All!$C$2:$C$1000=$B$6))>0)) -> 0 | E23: =B23-C23-D23 -> 0 | F23: =SUMPRODUCT(--(All!$E$2:$E$1000=$B$3),--(All!$G$2:$G$1000=$A23),All!$F$2:$F$1000,--((($B$4="All")+(All!$A$2:$A$1000=$B$4))>0)*--((($B$5="All")+(All!$B$2:$B$1000=$B$5))>0)*--((($B$6="All")+(All!$C$2:$C$1000=$B$6))>0))+SUMPRODUCT(--(All!$G$2:$G$1000=$B$3),--(All!$E$2:$E$1000=$A23),All!$H$2:$H$1000,--((($B$4="All")+(All!$A$2:$A$1000=$B$4))>0)*--((($B$5="All")+(All!$B$2:$B$1000=$B$5))>0)*--((($B$6="All")+(All!$C$2:$C$1000=$B$6))>0)) -> 0 | G23: =SUMPRODUCT(--(All!$E$2:$E$1000=$B$3),--(All!$G$2:$G$1000=$A23),All!$H$2:$H$1000,--((($B$4="All")+(All!$A$2:$A$1000=$B$4))>0)*--((($B$5="All")+(All!$B$2:$B$1000=$B$5))>0)*--((($B$6="All")+(All!$C$2:$C$1000=$B$6))>0))+SUMPRODUCT(--(All!$G$2:$G$1000=$B$3),--(All!$E$2:$E$1000=$A23),All!$F$2:$F$1000,--((($B$4="All")+(All!$A$2:$A$1000=$B$4))>0)*--((($B$5="All")+(All!$B$2:$B$1000=$B$5))>0)*--((($B$6="All")+(All!$C$2:$C$1000=$B$6))>0)) -> 0 | H23: =F23-G23 -> 0
A24: Pete | B24: =SUMPRODUCT(--((((All!$E$2:$E$1000=$B$3)*(All!$G$2:$G$1000=$A24)+(All!$E$2:$E$1000=$A24)*(All!$G$2:$G$1000=$B$3))>0)),--((($B$4="All")+(All!$A$2:$A$1000=$B$4))>0)*--((($B$5="All")+(All!$B$2:$B$1000=$B$5))>0)*--((($B$6="All")+(All!$C$2:$C$1000=$B$6))>0)) -> 0 | C24: =SUMPRODUCT(--(All!$E$2:$E$1000=$B$3),--(All!$G$2:$G$1000=$A24),--(All!$F$2:$F$1000>All!$H$2:$H$1000),--((($B$4="All")+(All!$A$2:$A$1000=$B$4))>0)*--((($B$5="All")+(All!$B$2:$B$1000=$B$5))>0)*--((($B$6="All")+(All!$C$2:$C$1000=$B$6))>0))+SUMPRODUCT(--(All!$G$2:$G$1000=$B$3),--(All!$E$2:$E$1000=$A24),--(All!$H$2:$H$1000>All!$F$2:$F$1000),--((($B$4="All")+(All!$A$2:$A$1000=$B$4))>0)*--((($B$5="All")+(All!$B$2:$B$1000=$B$5))>0)*--((($B$6="All")+(All!$C$2:$C$1000=$B$6))>0)) -> 0 | D24: =SUMPRODUCT(--((((All!$E$2:$E$1000=$B$3)*(All!$G$2:$G$1000=$A24)+(All!$E$2:$E$1000=$A24)*(All!$G$2:$G$1000=$B$3))>0)),--(All!$F$2:$F$1000=All!$H$2:$H$1000),--((($B$4="All")+(All!$A$2:$A$1000=$B$4))>0)*--((($B$5="All")+(All!$B$2:$B$1000=$B$5))>0)*--((($B$6="All")+(All!$C$2:$C$1000=$B$6))>0)) -> 0 | E24: =B24-C24-D24 -> 0 | F24: =SUMPRODUCT(--(All!$E$2:$E$1000=$B$3),--(All!$G$2:$G$1000=$A24),All!$F$2:$F$1000,--((($B$4="All")+(All!$A$2:$A$1000=$B$4))>0)*--((($B$5="All")+(All!$B$2:$B$1000=$B$5))>0)*--((($B$6="All")+(All!$C$2:$C$1000=$B$6))>0))+SUMPRODUCT(--(All!$G$2:$G$1000=$B$3),--(All!$E$2:$E$1000=$A24),All!$H$2:$H$1000,--((($B$4="All")+(All!$A$2:$A$1000=$B$4))>0)*--((($B$5="All")+(All!$B$2:$B$1000=$B$5))>0)*--((($B$6="All")+(All!$C$2:$C$1000=$B$6))>0)) -> 0 | G24: =SUMPRODUCT(--(All!$E$2:$E$1000=$B$3),--(All!$G$2:$G$1000=$A24),All!$H$2:$H$1000,--((($B$4="All")+(All!$A$2:$A$1000=$B$4))>0)*--((($B$5="All")+(All!$B$2:$B$1000=$B$5))>0)*--((($B$6="All")+(All!$C$2:$C$1000=$B$6))>0))+SUMPRODUCT(--(All!$G$2:$G$1000=$B$3),--(All!$E$2:$E$1000=$A24),All!$F$2:$F$1000,--((($B$4="All")+(All!$A$2:$A$1000=$B$4))>0)*--((($B$5="All")+(All!$B$2:$B$1000=$B$5))>0)*--((($B$6="All")+(All!$C$2:$C$1000=$B$6))>0)) -> 0 | H24: =F24-G24 -> 0
A25: Alex | B25: =SUMPRODUCT(--((((All!$E$2:$E$1000=$B$3)*(All!$G$2:$G$1000=$A25)+(All!$E$2:$E$1000=$A25)*(All!$G$2:$G$1000=$B$3))>0)),--((($B$4="All")+(All!$A$2:$A$1000=$B$4))>0)*--((($B$5="All")+(All!$B$2:$B$1000=$B$5))>0)*--((($B$6="All")+(All!$C$2:$C$1000=$B$6))>0)) -> 0 | C25: =SUMPRODUCT(--(All!$E$2:$E$1000=$B$3),--(All!$G$2:$G$1000=$A25),--(All!$F$2:$F$1000>All!$H$2:$H$1000),--((($B$4="All")+(All!$A$2:$A$1000=$B$4))>0)*--((($B$5="All")+(All!$B$2:$B$1000=$B$5))>0)*--((($B$6="All")+(All!$C$2:$C$1000=$B$6))>0))+SUMPRODUCT(--(All!$G$2:$G$1000=$B$3),--(All!$E$2:$E$1000=$A25),--(All!$H$2:$H$1000>All!$F$2:$F$1000),--((($B$4="All")+(All!$A$2:$A$1000=$B$4))>0)*--((($B$5="All")+(All!$B$2:$B$1000=$B$5))>0)*--((($B$6="All")+(All!$C$2:$C$1000=$B$6))>0)) -> 0 | D25: =SUMPRODUCT(--((((All!$E$2:$E$1000=$B$3)*(All!$G$2:$G$1000=$A25)+(All!$E$2:$E$1000=$A25)*(All!$G$2:$G$1000=$B$3))>0)),--(All!$F$2:$F$1000=All!$H$2:$H$1000),--((($B$4="All")+(All!$A$2:$A$1000=$B$4))>0)*--((($B$5="All")+(All!$B$2:$B$1000=$B$5))>0)*--((($B$6="All")+(All!$C$2:$C$1000=$B$6))>0)) -> 0 | E25: =B25-C25-D25 -> 0 | F25: =SUMPRODUCT(--(All!$E$2:$E$1000=$B$3),--(All!$G$2:$G$1000=$A25),All!$F$2:$F$1000,--((($B$4="All")+(All!$A$2:$A$1000=$B$4))>0)*--((($B$5="All")+(All!$B$2:$B$1000=$B$5))>0)*--((($B$6="All")+(All!$C$2:$C$1000=$B$6))>0))+SUMPRODUCT(--(All!$G$2:$G$1000=$B$3),--(All!$E$2:$E$1000=$A25),All!$H$2:$H$1000,--((($B$4="All")+(All!$A$2:$A$1000=$B$4))>0)*--((($B$5="All")+(All!$B$2:$B$1000=$B$5))>0)*--((($B$6="All")+(All!$C$2:$C$1000=$B$6))>0)) -> 0 | G25: =SUMPRODUCT(--(All!$E$2:$E$1000=$B$3),--(All!$G$2:$G$1000=$A25),All!$H$2:$H$1000,--((($B$4="All")+(All!$A$2:$A$1000=$B$4))>0)*--((($B$5="All")+(All!$B$2:$B$1000=$B$5))>0)*--((($B$6="All")+(All!$C$2:$C$1000=$B$6))>0))+SUMPRODUCT(--(All!$G$2:$G$1000=$B$3),--(All!$E$2:$E$1000=$A25),All!$F$2:$F$1000,--((($B$4="All")+(All!$A$2:$A$1000=$B$4))>0)*--((($B$5="All")+(All!$B$2:$B$1000=$B$5))>0)*--((($B$6="All")+(All!$C$2:$C$1000=$B$6))>0)) -> 0 | H25: =F25-G25 -> 0
A26: Martin | B26: =SUMPRODUCT(--((((All!$E$2:$E$1000=$B$3)*(All!$G$2:$G$1000=$A26)+(All!$E$2:$E$1000=$A26)*(All!$G$2:$G$1000=$B$3))>0)),--((($B$4="All")+(All!$A$2:$A$1000=$B$4))>0)*--((($B$5="All")+(All!$B$2:$B$1000=$B$5))>0)*--((($B$6="All")+(All!$C$2:$C$1000=$B$6))>0)) -> 0 | C26: =SUMPRODUCT(--(All!$E$2:$E$1000=$B$3),--(All!$G$2:$G$1000=$A26),--(All!$F$2:$F$1000>All!$H$2:$H$1000),--((($B$4="All")+(All!$A$2:$A$1000=$B$4))>0)*--((($B$5="All")+(All!$B$2:$B$1000=$B$5))>0)*--((($B$6="All")+(All!$C$2:$C$1000=$B$6))>0))+SUMPRODUCT(--(All!$G$2:$G$1000=$B$3),--(All!$E$2:$E$1000=$A26),--(All!$H$2:$H$1000>All!$F$2:$F$1000),--((($B$4="All")+(All!$A$2:$A$1000=$B$4))>0)*--((($B$5="All")+(All!$B$2:$B$1000=$B$5))>0)*--((($B$6="All")+(All!$C$2:$C$1000=$B$6))>0)) -> 0 | D26: =SUMPRODUCT(--((((All!$E$2:$E$1000=$B$3)*(All!$G$2:$G$1000=$A26)+(All!$E$2:$E$1000=$A26)*(All!$G$2:$G$1000=$B$3))>0)),--(All!$F$2:$F$1000=All!$H$2:$H$1000),--((($B$4="All")+(All!$A$2:$A$1000=$B$4))>0)*--((($B$5="All")+(All!$B$2:$B$1000=$B$5))>0)*--((($B$6="All")+(All!$C$2:$C$1000=$B$6))>0)) -> 0 | E26: =B26-C26-D26 -> 0 | F26: =SUMPRODUCT(--(All!$E$2:$E$1000=$B$3),--(All!$G$2:$G$1000=$A26),All!$F$2:$F$1000,--((($B$4="All")+(All!$A$2:$A$1000=$B$4))>0)*--((($B$5="All")+(All!$B$2:$B$1000=$B$5))>0)*--((($B$6="All")+(All!$C$2:$C$1000=$B$6))>0))+SUMPRODUCT(--(All!$G$2:$G$1000=$B$3),--(All!$E$2:$E$1000=$A26),All!$H$2:$H$1000,--((($B$4="All")+(All!$A$2:$A$1000=$B$4))>0)*--((($B$5="All")+(All!$B$2:$B$1000=$B$5))>0)*--((($B$6="All")+(All!$C$2:$C$1000=$B$6))>0)) -> 0 | G26: =SUMPRODUCT(--(All!$E$2:$E$1000=$B$3),--(All!$G$2:$G$1000=$A26),All!$H$2:$H$1000,--((($B$4="All")+(All!$A$2:$A$1000=$B$4))>0)*--((($B$5="All")+(All!$B$2:$B$1000=$B$5))>0)*--((($B$6="All")+(All!$C$2:$C$1000=$B$6))>0))+SUMPRODUCT(--(All!$G$2:$G$1000=$B$3),--(All!$E$2:$E$1000=$A26),All!$F$2:$F$1000,--((($B$4="All")+(All!$A$2:$A$1000=$B$4))>0)*--((($B$5="All")+(All!$B$2:$B$1000=$B$5))>0)*--((($B$6="All")+(All!$C$2:$C$1000=$B$6))>0)) -> 0 | H26: =F26-G26 -> 0
A27: Mike | B27: =SUMPRODUCT(--((((All!$E$2:$E$1000=$B$3)*(All!$G$2:$G$1000=$A27)+(All!$E$2:$E$1000=$A27)*(All!$G$2:$G$1000=$B$3))>0)),--((($B$4="All")+(All!$A$2:$A$1000=$B$4))>0)*--((($B$5="All")+(All!$B$2:$B$1000=$B$5))>0)*--((($B$6="All")+(All!$C$2:$C$1000=$B$6))>0)) -> 0 | C27: =SUMPRODUCT(--(All!$E$2:$E$1000=$B$3),--(All!$G$2:$G$1000=$A27),--(All!$F$2:$F$1000>All!$H$2:$H$1000),--((($B$4="All")+(All!$A$2:$A$1000=$B$4))>0)*--((($B$5="All")+(All!$B$2:$B$1000=$B$5))>0)*--((($B$6="All")+(All!$C$2:$C$1000=$B$6))>0))+SUMPRODUCT(--(All!$G$2:$G$1000=$B$3),--(All!$E$2:$E$1000=$A27),--(All!$H$2:$H$1000>All!$F$2:$F$1000),--((($B$4="All")+(All!$A$2:$A$1000=$B$4))>0)*--((($B$5="All")+(All!$B$2:$B$1000=$B$5))>0)*--((($B$6="All")+(All!$C$2:$C$1000=$B$6))>0)) -> 0 | D27: =SUMPRODUCT(--((((All!$E$2:$E$1000=$B$3)*(All!$G$2:$G$1000=$A27)+(All!$E$2:$E$1000=$A27)*(All!$G$2:$G$1000=$B$3))>0)),--(All!$F$2:$F$1000=All!$H$2:$H$1000),--((($B$4="All")+(All!$A$2:$A$1000=$B$4))>0)*--((($B$5="All")+(All!$B$2:$B$1000=$B$5))>0)*--((($B$6="All")+(All!$C$2:$C$1000=$B$6))>0)) -> 0 | E27: =B27-C27-D27 -> 0 | F27: =SUMPRODUCT(--(All!$E$2:$E$1000=$B$3),--(All!$G$2:$G$1000=$A27),All!$F$2:$F$1000,--((($B$4="All")+(All!$A$2:$A$1000=$B$4))>0)*--((($B$5="All")+(All!$B$2:$B$1000=$B$5))>0)*--((($B$6="All")+(All!$C$2:$C$1000=$B$6))>0))+SUMPRODUCT(--(All!$G$2:$G$1000=$B$3),--(All!$E$2:$E$1000=$A27),All!$H$2:$H$1000,--((($B$4="All")+(All!$A$2:$A$1000=$B$4))>0)*--((($B$5="All")+(All!$B$2:$B$1000=$B$5))>0)*--((($B$6="All")+(All!$C$2:$C$1000=$B$6))>0)) -> 0 | G27: =SUMPRODUCT(--(All!$E$2:$E$1000=$B$3),--(All!$G$2:$G$1000=$A27),All!$H$2:$H$1000,--((($B$4="All")+(All!$A$2:$A$1000=$B$4))>0)*--((($B$5="All")+(All!$B$2:$B$1000=$B$5))>0)*--((($B$6="All")+(All!$C$2:$C$1000=$B$6))>0))+SUMPRODUCT(--(All!$G$2:$G$1000=$B$3),--(All!$E$2:$E$1000=$A27),All!$F$2:$F$1000,--((($B$4="All")+(All!$A$2:$A$1000=$B$4))>0)*--((($B$5="All")+(All!$B$2:$B$1000=$B$5))>0)*--((($B$6="All")+(All!$C$2:$C$1000=$B$6))>0)) -> 0 | H27: =F27-G27 -> 0
... A29: Kevin | B29: =SUMPRODUCT(--((((All!$E$2:$E$1000=$B$3)*(All!$G$2:$G$1000=$A29)+(All!$E$2:$E$1000=$A29)*(All!$G$2:$G$1000=$B$3))>0)),--((($B$4="All")+(All!$A$2:$A$1000=$B$4))>0)*--((($B$5="All")+(All!$B$2:$B$1000=$B$5))>0)*--((($B$6="All")+(All!$C$2:$C$1000=$B$6))>0)) -> 0 | C29: =SUMPRODUCT(--(All!$E$2:$E$1000=$B$3),--(All!$G$2:$G$1000=$A29),--(All!$F$2:$F$1000>All!$H$2:$H$1000),--((($B$4="All")+(All!$A$2:$A$1000=$B$4))>0)*--((($B$5="All")+(All!$B$2:$B$1000=$B$5))>0)*--((($B$6="All")+(All!$C$2:$C$1000=$B$6))>0))+SUMPRODUCT(--(All!$G$2:$G$1000=$B$3),--(All!$E$2:$E$1000=$A29),--(All!$H$2:$H$1000>All!$F$2:$F$1000),--((($B$4="All")+(All!$A$2:$A$1000=$B$4))>0)*--((($B$5="All")+(All!$B$2:$B$1000=$B$5))>0)*--((($B$6="All")+(All!$C$2:$C$1000=$B$6))>0)) -> 0 | D29: =SUMPRODUCT(--((((All!$E$2:$E$1000=$B$3)*(All!$G$2:$G$1000=$A29)+(All!$E$2:$E$1000=$A29)*(All!$G$2:$G$1000=$B$3))>0)),--(All!$F$2:$F$1000=All!$H$2:$H$1000),--((($B$4="All")+(All!$A$2:$A$1000=$B$4))>0)*--((($B$5="All")+(All!$B$2:$B$1000=$B$5))>0)*--((($B$6="All")+(All!$C$2:$C$1000=$B$6))>0)) -> 0 | E29: =B29-C29-D29 -> 0 | F29: =SUMPRODUCT(--(All!$E$2:$E$1000=$B$3),--(All!$G$2:$G$1000=$A29),All!$F$2:$F$1000,--((($B$4="All")+(All!$A$2:$A$1000=$B$4))>0)*--((($B$5="All")+(All!$B$2:$B$1000=$B$5))>0)*--((($B$6="All")+(All!$C$2:$C$1000=$B$6))>0))+SUMPRODUCT(--(All!$G$2:$G$1000=$B$3),--(All!$E$2:$E$1000=$A29),All!$H$2:$H$1000,--((($B$4="All")+(All!$A$2:$A$1000=$B$4))>0)*--((($B$5="All")+(All!$B$2:$B$1000=$B$5))>0)*--((($B$6="All")+(All!$C$2:$C$1000=$B$6))>0)) -> 0 | G29: =SUMPRODUCT(--(All!$E$2:$E$1000=$B$3),--(All!$G$2:$G$1000=$A29),All!$H$2:$H$1000,--((($B$4="All")+(All!$A$2:$A$1000=$B$4))>0)*--((($B$5="All")+(All!$B$2:$B$1000=$B$5))>0)*--((($B$6="All")+(All!$C$2:$C$1000=$B$6))>0))+SUMPRODUCT(--(All!$G$2:$G$1000=$B$3),--(All!$E$2:$E$1000=$A29),All!$F$2:$F$1000,--((($B$4="All")+(All!$A$2:$A$1000=$B$4))>0)*--((($B$5="All")+(All!$B$2:$B$1000=$B$5))>0)*--((($B$6="All")+(All!$C$2:$C$1000=$B$6))>0)) -> 0 | H29: =F29-G29 -> 0

Sheet Head to Head
A1: SDSC HEAD-TO-HEAD
A3: Player 1 | B3: All
A4: Player 2 | B4: All
A5: Season | B5: All
A6: Competition | B6: All
A7: Specific | B7: All
A9: HEAD-TO-HEAD RECORD
A10: Played | B10: Player 1 Wins | C10: Draws | D10: Player 2 Wins | E10: Player 1 GF | F10: Player 2 GF | G10: Goal Diff P1 | H10: Win % P1
A11: =SUMPRODUCT(--(All!$E$2:$E$1000=$B$3),--(All!$G$2:$G$1000=$B$4),--((($B$5="All")+(All!$A$2:$A$1000=$B$5))>0),--((($B$6="All")+(All!$B$2:$B$1000=$B$6))>0),--((($B$7="All")+(All!$C$2:$C$1000=$B$7))>0))+SUMPRODUCT(--(All!$E$2:$E$1000=$B$4),--(All!$G$2:$G$1000=$B$3),--((($B$5="All")+(All!$A$2:$A$1000=$B$5))>0),--((($B$6="All")+(All!$B$2:$B$1000=$B$6))>0),--((($B$7="All")+(All!$C$2:$C$1000=$B$7))>0)) -> 0 | B11: =SUMPRODUCT(--(All!$E$2:$E$1000=$B$3),--(All!$G$2:$G$1000=$B$4),--((($B$5="All")+(All!$A$2:$A$1000=$B$5))>0),--((($B$6="All")+(All!$B$2:$B$1000=$B$6))>0),--((($B$7="All")+(All!$C$2:$C$1000=$B$7))>0),--(All!$F$2:$F$1000>All!$H$2:$H$1000))+SUMPRODUCT(--(All!$E$2:$E$1000=$B$4),--(All!$G$2:$G$1000=$B$3),--((($B$5="All")+(All!$A$2:$A$1000=$B$5))>0),--((($B$6="All")+(All!$B$2:$B$1000=$B$6))>0),--((($B$7="All")+(All!$C$2:$C$1000=$B$7))>0),--(All!$H$2:$H$1000>All!$F$2:$F$1000)) -> 0 | C11: =A11-B11-D11 -> 0 | D11: =SUMPRODUCT(--(All!$E$2:$E$1000=$B$4),--(All!$G$2:$G$1000=$B$3),--((($B$5="All")+(All!$A$2:$A$1000=$B$5))>0),--((($B$6="All")+(All!$B$2:$B$1000=$B$6))>0),--((($B$7="All")+(All!$C$2:$C$1000=$B$7))>0),--(All!$F$2:$F$1000>All!$H$2:$H$1000))+SUMPRODUCT(--(All!$E$2:$E$1000=$B$3),--(All!$G$2:$G$1000=$B$4),--((($B$5="All")+(All!$A$2:$A$1000=$B$5))>0),--((($B$6="All")+(All!$B$2:$B$1000=$B$6))>0),--((($B$7="All")+(All!$C$2:$C$1000=$B$7))>0),--(All!$H$2:$H$1000>All!$F$2:$F$1000)) -> 0 | E11: =SUMPRODUCT(--(All!$E$2:$E$1000=$B$3),--(All!$G$2:$G$1000=$B$4),--((($B$5="All")+(All!$A$2:$A$1000=$B$5))>0),--((($B$6="All")+(All!$B$2:$B$1000=$B$6))>0),--((($B$7="All")+(All!$C$2:$C$1000=$B$7))>0),All!$F$2:$F$1000)+SUMPRODUCT(--(All!$E$2:$E$1000=$B$4),--(All!$G$2:$G$1000=$B$3),--((($B$5="All")+(All!$A$2:$A$1000=$B$5))>0),--((($B$6="All")+(All!$B$2:$B$1000=$B$6))>0),--((($B$7="All")+(All!$C$2:$C$1000=$B$7))>0),All!$H$2:$H$1000) -> 0 | F11: =SUMPRODUCT(--(All!$E$2:$E$1000=$B$3),--(All!$G$2:$G$1000=$B$4),--((($B$5="All")+(All!$A$2:$A$1000=$B$5))>0),--((($B$6="All")+(All!$B$2:$B$1000=$B$6))>0),--((($B$7="All")+(All!$C$2:$C$1000=$B$7))>0),All!$H$2:$H$1000)+SUMPRODUCT(--(All!$E$2:$E$1000=$B$4),--(All!$G$2:$G$1000=$B$3),--((($B$5="All")+(All!$A$2:$A$1000=$B$5))>0),--((($B$6="All")+(All!$B$2:$B$1000=$B$6))>0),--((($B$7="All")+(All!$C$2:$C$1000=$B$7))>0),All!$F$2:$F$1000) -> 0 | G11: =E11-F11 -> 0 | H11: =IF(A11=0,0,B11/A11) -> 0
A14: MATCHES BETWEEN SELECTED PLAYERS
A15: Season | B15: Competition | C15: Specific | D15: Round | E15: Player 1 | F15: Score | G15: Player 2 | H15: Score
A16: =IFERROR(INDEX(All!$A$2:$A$1000,SMALL($J$16:$J$1014,ROWS($A$16:A16))),"") | B16: =IFERROR(INDEX(All!$B$2:$B$1000,SMALL($J$16:$J$1014,ROWS($A$16:A16))),"") | C16: =IFERROR(INDEX(All!$C$2:$C$1000,SMALL($J$16:$J$1014,ROWS($A$16:A16))),"") | D16: =IFERROR(INDEX(All!$D$2:$D$1000,SMALL($J$16:$J$1014,ROWS($A$16:A16))),"") | E16: =IFERROR(IF(ISNUMBER(SMALL($J$16:$J$1014,ROWS($A$16:A16))),$B$3,""),"") | F16: =IFERROR(IF(INDEX(All!$E$2:$E$1000,SMALL($J$16:$J$1014,ROWS($A$16:A16)))=$B$3,INDEX(All!$F$2:$F$1000,SMALL($J$16:$J$1014,ROWS($A$16:A16))),INDEX(All!$H$2:$H$1000,SMALL($J$16:$J$1014,ROWS($A$16:A16)))),"") | G16: =IFERROR(IF(ISNUMBER(SMALL($J$16:$J$1014,ROWS($A$16:A16))),$B$4,""),"") | H16: =IFERROR(IF(INDEX(All!$E$2:$E$1000,SMALL($J$16:$J$1014,ROWS($A$16:A16)))=$B$3,INDEX(All!$H$2:$H$1000,SMALL($J$16:$J$1014,ROWS($A$16:A16))),INDEX(All!$F$2:$F$1000,SMALL($J$16:$J$1014,ROWS($A$16:A16)))),"") | J16: =IF(AND(OR(AND(All!E2=$B$3,All!G2=$B$4),AND(All!E2=$B$4,All!G2=$B$3)),IF($B$5="All",TRUE(),All!A2=$B$5),IF($B$6="All",TRUE(),All!B2=$B$6),IF($B$7="All",TRUE(),All!C2=$B$7)),ROW(All!E2)-1,"")
A17: =IFERROR(INDEX(All!$A$2:$A$1000,SMALL($J$16:$J$1014,ROWS($A$16:A17))),"") | B17: =IFERROR(INDEX(All!$B$2:$B$1000,SMALL($J$16:$J$1014,ROWS($A$16:A17))),"") | C17: =IFERROR(INDEX(All!$C$2:$C$1000,SMALL($J$16:$J$1014,ROWS($A$16:A17))),"") | D17: =IFERROR(INDEX(All!$D$2:$D$1000,SMALL($J$16:$J$1014,ROWS($A$16:A17))),"") | E17: =IFERROR(IF(ISNUMBER(SMALL($J$16:$J$1014,ROWS($A$16:A17))),$B$3,""),"") | F17: =IFERROR(IF(INDEX(All!$E$2:$E$1000,SMALL($J$16:$J$1014,ROWS($A$16:A17)))=$B$3,INDEX(All!$F$2:$F$1000,SMALL($J$16:$J$1014,ROWS($A$16:A17))),INDEX(All!$H$2:$H$1000,SMALL($J$16:$J$1014,ROWS($A$16:A17)))),"") | G17: =IFERROR(IF(ISNUMBER(SMALL($J$16:$J$1014,ROWS($A$16:A17))),$B$4,""),"") | H17: =IFERROR(IF(INDEX(All!$E$2:$E$1000,SMALL($J$16:$J$1014,ROWS($A$16:A17)))=$B$3,INDEX(All!$H$2:$H$1000,SMALL($J$16:$J$1014,ROWS($A$16:A17))),INDEX(All!$F$2:$F$1000,SMALL($J$16:$J$1014,ROWS($A$16:A17)))),"") | J17: =IF(AND(OR(AND(All!E3=$B$3,All!G3=$B$4),AND(All!E3=$B$4,All!G3=$B$3)),IF($B$5="All",TRUE(),All!A3=$B$5),IF($B$6="All",TRUE(),All!B3=$B$6),IF($B$7="All",TRUE(),All!C3=$B$7)),ROW(All!E3)-1,"")
A18: =IFERROR(INDEX(All!$A$2:$A$1000,SMALL($J$16:$J$1014,ROWS($A$16:A18))),"") | B18: =IFERROR(INDEX(All!$B$2:$B$1000,SMALL($J$16:$J$1014,ROWS($A$16:A18))),"") | C18: =IFERROR(INDEX(All!$C$2:$C$1000,SMALL($J$16:$J$1014,ROWS($A$16:A18))),"") | D18: =IFERROR(INDEX(All!$D$2:$D$1000,SMALL($J$16:$J$1014,ROWS($A$16:A18))),"") | E18: =IFERROR(IF(ISNUMBER(SMALL($J$16:$J$1014,ROWS($A$16:A18))),$B$3,""),"") | F18: =IFERROR(IF(INDEX(All!$E$2:$E$1000,SMALL($J$16:$J$1014,ROWS($A$16:A18)))=$B$3,INDEX(All!$F$2:$F$1000,SMALL($J$16:$J$1014,ROWS($A$16:A18))),INDEX(All!$H$2:$H$1000,SMALL($J$16:$J$1014,ROWS($A$16:A18)))),"") | G18: =IFERROR(IF(ISNUMBER(SMALL($J$16:$J$1014,ROWS($A$16:A18))),$B$4,""),"") | H18: =IFERROR(IF(INDEX(All!$E$2:$E$1000,SMALL($J$16:$J$1014,ROWS($A$16:A18)))=$B$3,INDEX(All!$H$2:$H$1000,SMALL($J$16:$J$1014,ROWS($A$16:A18))),INDEX(All!$F$2:$F$1000,SMALL($J$16:$J$1014,ROWS($A$16:A18)))),"") | J18: =IF(AND(OR(AND(All!E4=$B$3,All!G4=$B$4),AND(All!E4=$B$4,All!G4=$B$3)),IF($B$5="All",TRUE(),All!A4=$B$5),IF($B$6="All",TRUE(),All!B4=$B$6),IF($B$7="All",TRUE(),All!C4=$B$7)),ROW(All!E4)-1,"")
A19: =IFERROR(INDEX(All!$A$2:$A$1000,SMALL($J$16:$J$1014,ROWS($A$16:A19))),"") | B19: =IFERROR(INDEX(All!$B$2:$B$1000,SMALL($J$16:$J$1014,ROWS($A$16:A19))),"") | C19: =IFERROR(INDEX(All!$C$2:$C$1000,SMALL($J$16:$J$1014,ROWS($A$16:A19))),"") | D19: =IFERROR(INDEX(All!$D$2:$D$1000,SMALL($J$16:$J$1014,ROWS($A$16:A19))),"") | E19: =IFERROR(IF(ISNUMBER(SMALL($J$16:$J$1014,ROWS($A$16:A19))),$B$3,""),"") | F19: =IFERROR(IF(INDEX(All!$E$2:$E$1000,SMALL($J$16:$J$1014,ROWS($A$16:A19)))=$B$3,INDEX(All!$F$2:$F$1000,SMALL($J$16:$J$1014,ROWS($A$16:A19))),INDEX(All!$H$2:$H$1000,SMALL($J$16:$J$1014,ROWS($A$16:A19)))),"") | G19: =IFERROR(IF(ISNUMBER(SMALL($J$16:$J$1014,ROWS($A$16:A19))),$B$4,""),"") | H19: =IFERROR(IF(INDEX(All!$E$2:$E$1000,SMALL($J$16:$J$1014,ROWS($A$16:A19)))=$B$3,INDEX(All!$H$2:$H$1000,SMALL($J$16:$J$1014,ROWS($A$16:A19))),INDEX(All!$F$2:$F$1000,SMALL($J$16:$J$1014,ROWS($A$16:A19)))),"") | J19: =IF(AND(OR(AND(All!E5=$B$3,All!G5=$B$4),AND(All!E5=$B$4,All!G5=$B$3)),IF($B$5="All",TRUE(),All!A5=$B$5),IF($B$6="All",TRUE(),All!B5=$B$6),IF($B$7="All",TRUE(),All!C5=$B$7)),ROW(All!E5)-1,"")
A20: =IFERROR(INDEX(All!$A$2:$A$1000,SMALL($J$16:$J$1014,ROWS($A$16:A20))),"") | B20: =IFERROR(INDEX(All!$B$2:$B$1000,SMALL($J$16:$J$1014,ROWS($A$16:A20))),"") | C20: =IFERROR(INDEX(All!$C$2:$C$1000,SMALL($J$16:$J$1014,ROWS($A$16:A20))),"") | D20: =IFERROR(INDEX(All!$D$2:$D$1000,SMALL($J$16:$J$1014,ROWS($A$16:A20))),"") | E20: =IFERROR(IF(ISNUMBER(SMALL($J$16:$J$1014,ROWS($A$16:A20))),$B$3,""),"") | F20: =IFERROR(IF(INDEX(All!$E$2:$E$1000,SMALL($J$16:$J$1014,ROWS($A$16:A20)))=$B$3,INDEX(All!$F$2:$F$1000,SMALL($J$16:$J$1014,ROWS($A$16:A20))),INDEX(All!$H$2:$H$1000,SMALL($J$16:$J$1014,ROWS($A$16:A20)))),"") | G20: =IFERROR(IF(ISNUMBER(SMALL($J$16:$J$1014,ROWS($A$16:A20))),$B$4,""),"") | H20: =IFERROR(IF(INDEX(All!$E$2:$E$1000,SMALL($J$16:$J$1014,ROWS($A$16:A20)))=$B$3,INDEX(All!$H$2:$H$1000,SMALL($J$16:$J$1014,ROWS($A$16:A20))),INDEX(All!$F$2:$F$1000,SMALL($J$16:$J$1014,ROWS($A$16:A20)))),"") | J20: =IF(AND(OR(AND(All!E6=$B$3,All!G6=$B$4),AND(All!E6=$B$4,All!G6=$B$3)),IF($B$5="All",TRUE(),All!A6=$B$5),IF($B$6="All",TRUE(),All!B6=$B$6),IF($B$7="All",TRUE(),All!C6=$B$7)),ROW(All!E6)-1,"")
A21: =IFERROR(INDEX(All!$A$2:$A$1000,SMALL($J$16:$J$1014,ROWS($A$16:A21))),"") | B21: =IFERROR(INDEX(All!$B$2:$B$1000,SMALL($J$16:$J$1014,ROWS($A$16:A21))),"") | C21: =IFERROR(INDEX(All!$C$2:$C$1000,SMALL($J$16:$J$1014,ROWS($A$16:A21))),"") | D21: =IFERROR(INDEX(All!$D$2:$D$1000,SMALL($J$16:$J$1014,ROWS($A$16:A21))),"") | E21: =IFERROR(IF(ISNUMBER(SMALL($J$16:$J$1014,ROWS($A$16:A21))),$B$3,""),"") | F21: =IFERROR(IF(INDEX(All!$E$2:$E$1000,SMALL($J$16:$J$1014,ROWS($A$16:A21)))=$B$3,INDEX(All!$F$2:$F$1000,SMALL($J$16:$J$1014,ROWS($A$16:A21))),INDEX(All!$H$2:$H$1000,SMALL($J$16:$J$1014,ROWS($A$16:A21)))),"") | G21: =IFERROR(IF(ISNUMBER(SMALL($J$16:$J$1014,ROWS($A$16:A21))),$B$4,""),"") | H21: =IFERROR(IF(INDEX(All!$E$2:$E$1000,SMALL($J$16:$J$1014,ROWS($A$16:A21)))=$B$3,INDEX(All!$H$2:$H$1000,SMALL($J$16:$J$1014,ROWS($A$16:A21))),INDEX(All!$F$2:$F$1000,SMALL($J$16:$J$1014,ROWS($A$16:A21)))),"") | J21: =IF(AND(OR(AND(All!E7=$B$3,All!G7=$B$4),AND(All!E7=$B$4,All!G7=$B$3)),IF($B$5="All",TRUE(),All!A7=$B$5),IF($B$6="All",TRUE(),All!B7=$B$6),IF($B$7="All",TRUE(),All!C7=$B$7)),ROW(All!E7)-1,"")
A22: =IFERROR(INDEX(All!$A$2:$A$1000,SMALL($J$16:$J$1014,ROWS($A$16:A22))),"") | B22: =IFERROR(INDEX(All!$B$2:$B$1000,SMALL($J$16:$J$1014,ROWS($A$16:A22))),"") | C22: =IFERROR(INDEX(All!$C$2:$C$1000,SMALL($J$16:$J$1014,ROWS($A$16:A22))),"") | D22: =IFERROR(INDEX(All!$D$2:$D$1000,SMALL($J$16:$J$1014,ROWS($A$16:A22))),"") | E22: =IFERROR(IF(ISNUMBER(SMALL($J$16:$J$1014,ROWS($A$16:A22))),$B$3,""),"") | F22: =IFERROR(IF(INDEX(All!$E$2:$E$1000,SMALL($J$16:$J$1014,ROWS($A$16:A22)))=$B$3,INDEX(All!$F$2:$F$1000,SMALL($J$16:$J$1014,ROWS($A$16:A22))),INDEX(All!$H$2:$H$1000,SMALL($J$16:$J$1014,ROWS($A$16:A22)))),"") | G22: =IFERROR(IF(ISNUMBER(SMALL($J$16:$J$1014,ROWS($A$16:A22))),$B$4,""),"") | H22: =IFERROR(IF(INDEX(All!$E$2:$E$1000,SMALL($J$16:$J$1014,ROWS($A$16:A22)))=$B$3,INDEX(All!$H$2:$H$1000,SMALL($J$16:$J$1014,ROWS($A$16:A22))),INDEX(All!$F$2:$F$1000,SMALL($J$16:$J$1014,ROWS($A$16:A22)))),"") | J22: =IF(AND(OR(AND(All!E8=$B$3,All!G8=$B$4),AND(All!E8=$B$4,All!G8=$B$3)),IF($B$5="All",TRUE(),All!A8=$B$5),IF($B$6="All",TRUE(),All!B8=$B$6),IF($B$7="All",TRUE(),All!C8=$B$7)),ROW(All!E8)-1,"")
A23: =IFERROR(INDEX(All!$A$2:$A$1000,SMALL($J$16:$J$1014,ROWS($A$16:A23))),"") | B23: =IFERROR(INDEX(All!$B$2:$B$1000,SMALL($J$16:$J$1014,ROWS($A$16:A23))),"") | C23: =IFERROR(INDEX(All!$C$2:$C$1000,SMALL($J$16:$J$1014,ROWS($A$16:A23))),"") | D23: =IFERROR(INDEX(All!$D$2:$D$1000,SMALL($J$16:$J$1014,ROWS($A$16:A23))),"") | E23: =IFERROR(IF(ISNUMBER(SMALL($J$16:$J$1014,ROWS($A$16:A23))),$B$3,""),"") | F23: =IFERROR(IF(INDEX(All!$E$2:$E$1000,SMALL($J$16:$J$1014,ROWS($A$16:A23)))=$B$3,INDEX(All!$F$2:$F$1000,SMALL($J$16:$J$1014,ROWS($A$16:A23))),INDEX(All!$H$2:$H$1000,SMALL($J$16:$J$1014,ROWS($A$16:A23)))),"") | G23: =IFERROR(IF(ISNUMBER(SMALL($J$16:$J$1014,ROWS($A$16:A23))),$B$4,""),"") | H23: =IFERROR(IF(INDEX(All!$E$2:$E$1000,SMALL($J$16:$J$1014,ROWS($A$16:A23)))=$B$3,INDEX(All!$H$2:$H$1000,SMALL($J$16:$J$1014,ROWS($A$16:A23))),INDEX(All!$F$2:$F$1000,SMALL($J$16:$J$1014,ROWS($A$16:A23)))),"") | J23: =IF(AND(OR(AND(All!E9=$B$3,All!G9=$B$4),AND(All!E9=$B$4,All!G9=$B$3)),IF($B$5="All",TRUE(),All!A9=$B$5),IF($B$6="All",TRUE(),All!B9=$B$6),IF($B$7="All",TRUE(),All!C9=$B$7)),ROW(All!E9)-1,"")
A24: =IFERROR(INDEX(All!$A$2:$A$1000,SMALL($J$16:$J$1014,ROWS($A$16:A24))),"") | B24: =IFERROR(INDEX(All!$B$2:$B$1000,SMALL($J$16:$J$1014,ROWS($A$16:A24))),"") | C24: =IFERROR(INDEX(All!$C$2:$C$1000,SMALL($J$16:$J$1014,ROWS($A$16:A24))),"") | D24: =IFERROR(INDEX(All!$D$2:$D$1000,SMALL($J$16:$J$1014,ROWS($A$16:A24))),"") | E24: =IFERROR(IF(ISNUMBER(SMALL($J$16:$J$1014,ROWS($A$16:A24))),$B$3,""),"") | F24: =IFERROR(IF(INDEX(All!$E$2:$E$1000,SMALL($J$16:$J$1014,ROWS($A$16:A24)))=$B$3,INDEX(All!$F$2:$F$1000,SMALL($J$16:$J$1014,ROWS($A$16:A24))),INDEX(All!$H$2:$H$1000,SMALL($J$16:$J$1014,ROWS($A$16:A24)))),"") | G24: =IFERROR(IF(ISNUMBER(SMALL($J$16:$J$1014,ROWS($A$16:A24))),$B$4,""),"") | H24: =IFERROR(IF(INDEX(All!$E$2:$E$1000,SMALL($J$16:$J$1014,ROWS($A$16:A24)))=$B$3,INDEX(All!$H$2:$H$1000,SMALL($J$16:$J$1014,ROWS($A$16:A24))),INDEX(All!$F$2:$F$1000,SMALL($J$16:$J$1014,ROWS($A$16:A24)))),"") | J24: =IF(AND(OR(AND(All!E10=$B$3,All!G10=$B$4),AND(All!E10=$B$4,All!G10=$B$3)),IF($B$5="All",TRUE(),All!A10=$B$5),IF($B$6="All",TRUE(),All!B10=$B$6),IF($B$7="All",TRUE(),All!C10=$B$7)),ROW(All!E10)-1,"")
A25: =IFERROR(INDEX(All!$A$2:$A$1000,SMALL($J$16:$J$1014,ROWS($A$16:A25))),"") | B25: =IFERROR(INDEX(All!$B$2:$B$1000,SMALL($J$16:$J$1014,ROWS($A$16:A25))),"") | C25: =IFERROR(INDEX(All!$C$2:$C$1000,SMALL($J$16:$J$1014,ROWS($A$16:A25))),"") | D25: =IFERROR(INDEX(All!$D$2:$D$1000,SMALL($J$16:$J$1014,ROWS($A$16:A25))),"") | E25: =IFERROR(IF(ISNUMBER(SMALL($J$16:$J$1014,ROWS($A$16:A25))),$B$3,""),"") | F25: =IFERROR(IF(INDEX(All!$E$2:$E$1000,SMALL($J$16:$J$1014,ROWS($A$16:A25)))=$B$3,INDEX(All!$F$2:$F$1000,SMALL($J$16:$J$1014,ROWS($A$16:A25))),INDEX(All!$H$2:$H$1000,SMALL($J$16:$J$1014,ROWS($A$16:A25)))),"") | G25: =IFERROR(IF(ISNUMBER(SMALL($J$16:$J$1014,ROWS($A$16:A25))),$B$4,""),"") | H25: =IFERROR(IF(INDEX(All!$E$2:$E$1000,SMALL($J$16:$J$1014,ROWS($A$16:A25)))=$B$3,INDEX(All!$H$2:$H$1000,SMALL($J$16:$J$1014,ROWS($A$16:A25))),INDEX(All!$F$2:$F$1000,SMALL($J$16:$J$1014,ROWS($A$16:A25)))),"") | J25: =IF(AND(OR(AND(All!E11=$B$3,All!G11=$B$4),AND(All!E11=$B$4,All!G11=$B$3)),IF($B$5="All",TRUE(),All!A11=$B$5),IF($B$6="All",TRUE(),All!B11=$B$6),IF($B$7="All",TRUE(),All!C11=$B$7)),ROW(All!E11)-1,"")
A26: =IFERROR(INDEX(All!$A$2:$A$1000,SMALL($J$16:$J$1014,ROWS($A$16:A26))),"") | B26: =IFERROR(INDEX(All!$B$2:$B$1000,SMALL($J$16:$J$1014,ROWS($A$16:A26))),"") | C26: =IFERROR(INDEX(All!$C$2:$C$1000,SMALL($J$16:$J$1014,ROWS($A$16:A26))),"") | D26: =IFERROR(INDEX(All!$D$2:$D$1000,SMALL($J$16:$J$1014,ROWS($A$16:A26))),"") | E26: =IFERROR(IF(ISNUMBER(SMALL($J$16:$J$1014,ROWS($A$16:A26))),$B$3,""),"") | F26: =IFERROR(IF(INDEX(All!$E$2:$E$1000,SMALL($J$16:$J$1014,ROWS($A$16:A26)))=$B$3,INDEX(All!$F$2:$F$1000,SMALL($J$16:$J$1014,ROWS($A$16:A26))),INDEX(All!$H$2:$H$1000,SMALL($J$16:$J$1014,ROWS($A$16:A26)))),"") | G26: =IFERROR(IF(ISNUMBER(SMALL($J$16:$J$1014,ROWS($A$16:A26))),$B$4,""),"") | H26: =IFERROR(IF(INDEX(All!$E$2:$E$1000,SMALL($J$16:$J$1014,ROWS($A$16:A26)))=$B$3,INDEX(All!$H$2:$H$1000,SMALL($J$16:$J$1014,ROWS($A$16:A26))),INDEX(All!$F$2:$F$1000,SMALL($J$16:$J$1014,ROWS($A$16:A26)))),"") | J26: =IF(AND(OR(AND(All!E12=$B$3,All!G12=$B$4),AND(All!E12=$B$4,All!G12=$B$3)),IF($B$5="All",TRUE(),All!A12=$B$5),IF($B$6="All",TRUE(),All!B12=$B$6),IF($B$7="All",TRUE(),All!C12=$B$7)),ROW(All!E12)-1,"")
A27: =IFERROR(INDEX(All!$A$2:$A$1000,SMALL($J$16:$J$1014,ROWS($A$16:A27))),"") | B27: =IFERROR(INDEX(All!$B$2:$B$1000,SMALL($J$16:$J$1014,ROWS($A$16:A27))),"") | C27: =IFERROR(INDEX(All!$C$2:$C$1000,SMALL($J$16:$J$1014,ROWS($A$16:A27))),"") | D27: =IFERROR(INDEX(All!$D$2:$D$1000,SMALL($J$16:$J$1014,ROWS($A$16:A27))),"") | E27: =IFERROR(IF(ISNUMBER(SMALL($J$16:$J$1014,ROWS($A$16:A27))),$B$3,""),"") | F27: =IFERROR(IF(INDEX(All!$E$2:$E$1000,SMALL($J$16:$J$1014,ROWS($A$16:A27)))=$B$3,INDEX(All!$F$2:$F$1000,SMALL($J$16:$J$1014,ROWS($A$16:A27))),INDEX(All!$H$2:$H$1000,SMALL($J$16:$J$1014,ROWS($A$16:A27)))),"") | G27: =IFERROR(IF(ISNUMBER(SMALL($J$16:$J$1014,ROWS($A$16:A27))),$B$4,""),"") | H27: =IFERROR(IF(INDEX(All!$E$2:$E$1000,SMALL($J$16:$J$1014,ROWS($A$16:A27)))=$B$3,INDEX(All!$H$2:$H$1000,SMALL($J$16:$J$1014,ROWS($A$16:A27))),INDEX(All!$F$2:$F$1000,SMALL($J$16:$J$1014,ROWS($A$16:A27)))),"") | J27: =IF(AND(OR(AND(All!E13=$B$3,All!G13=$B$4),AND(All!E13=$B$4,All!G13=$B$3)),IF($B$5="All",TRUE(),All!A13=$B$5),IF($B$6="All",TRUE(),All!B13=$B$6),IF($B$7="All",TRUE(),All!C13=$B$7)),ROW(All!E13)-1,"")
... A169: =IFERROR(INDEX(All!$A$2:$A$1000,SMALL($J$16:$J$1014,ROWS($A$16:A169))),"") | B169: =IFERROR(INDEX(All!$B$2:$B$1000,SMALL($J$16:$J$1014,ROWS($A$16:A169))),"") | C169: =IFERROR(INDEX(All!$C$2:$C$1000,SMALL($J$16:$J$1014,ROWS($A$16:A169))),"") | D169: =IFERROR(INDEX(All!$D$2:$D$1000,SMALL($J$16:$J$1014,ROWS($A$16:A169))),"") | E169: =IFERROR(IF(ISNUMBER(SMALL($J$16:$J$1014,ROWS($A$16:A169))),$B$3,""),"") | F169: =IFERROR(IF(INDEX(All!$E$2:$E$1000,SMALL($J$16:$J$1014,ROWS($A$16:A169)))=$B$3,INDEX(All!$F$2:$F$1000,SMALL($J$16:$J$1014,ROWS($A$16:A169))),INDEX(All!$H$2:$H$1000,SMALL($J$16:$J$1014,ROWS($A$16:A169)))),"") | G169: =IFERROR(IF(ISNUMBER(SMALL($J$16:$J$1014,ROWS($A$16:A169))),$B$4,""),"") | H169: =IFERROR(IF(INDEX(All!$E$2:$E$1000,SMALL($J$16:$J$1014,ROWS($A$16:A169)))=$B$3,INDEX(All!$H$2:$H$1000,SMALL($J$16:$J$1014,ROWS($A$16:A169))),INDEX(All!$F$2:$F$1000,SMALL($J$16:$J$1014,ROWS($A$16:A169)))),"") | J169: =IF(AND(OR(AND(All!E155=$B$3,All!G155=$B$4),AND(All!E155=$B$4,All!G155=$B$3)),IF($B$5="All",TRUE(),All!A155=$B$5),IF($B$6="All",TRUE(),All!B155=$B$6),IF($B$7="All",TRUE(),All!C155=$B$7)),ROW(All!E155)-1,"")
J170: =IF(AND(OR(AND(All!E156=$B$3,All!G156=$B$4),AND(All!E156=$B$4,All!G156=$B$3)),IF($B$5="All",TRUE(),All!A156=$B$5),IF($B$6="All",TRUE(),All!B156=$B$6),IF($B$7="All",TRUE(),All!C156=$B$7)),ROW(All!E156)-1,"")
J171: =IF(AND(OR(AND(All!E157=$B$3,All!G157=$B$4),AND(All!E157=$B$4,All!G157=$B$3)),IF($B$5="All",TRUE(),All!A157=$B$5),IF($B$6="All",TRUE(),All!B157=$B$6),IF($B$7="All",TRUE(),All!C157=$B$7)),ROW(All!E157)-1,"")
J172: =IF(AND(OR(AND(All!E158=$B$3,All!G158=$B$4),AND(All!E158=$B$4,All!G158=$B$3)),IF($B$5="All",TRUE(),All!A158=$B$5),IF($B$6="All",TRUE(),All!B158=$B$6),IF($B$7="All",TRUE(),All!C158=$B$7)),ROW(All!E158)-1,"")
J173: =IF(AND(OR(AND(All!E159=$B$3,All!G159=$B$4),AND(All!E159=$B$4,All!G159=$B$3)),IF($B$5="All",TRUE(),All!A159=$B$5),IF($B$6="All",TRUE(),All!B159=$B$6),IF($B$7="All",TRUE(),All!C159=$B$7)),ROW(All!E159)-1,"")
J174: =IF(AND(OR(AND(All!E160=$B$3,All!G160=$B$4),AND(All!E160=$B$4,All!G160=$B$3)),IF($B$5="All",TRUE(),All!A160=$B$5),IF($B$6="All",TRUE(),All!B160=$B$6),IF($B$7="All",TRUE(),All!C160=$B$7)),ROW(All!E160)-1,"")
J175: =IF(AND(OR(AND(All!E161=$B$3,All!G161=$B$4),AND(All!E161=$B$4,All!G161=$B$3)),IF($B$5="All",TRUE(),All!A161=$B$5),IF($B$6="All",TRUE(),All!B161=$B$6),IF($B$7="All",TRUE(),All!C161=$B$7)),ROW(All!E161)-1,"")
J176: =IF(AND(OR(AND(All!E162=$B$3,All!G162=$B$4),AND(All!E162=$B$4,All!G162=$B$3)),IF($B$5="All",TRUE(),All!A162=$B$5),IF($B$6="All",TRUE(),All!B162=$B$6),IF($B$7="All",TRUE(),All!C162=$B$7)),ROW(All!E162)-1,"")
J177: =IF(AND(OR(AND(All!E163=$B$3,All!G163=$B$4),AND(All!E163=$B$4,All!G163=$B$3)),IF($B$5="All",TRUE(),All!A163=$B$5),IF($B$6="All",TRUE(),All!B163=$B$6),IF($B$7="All",TRUE(),All!C163=$B$7)),ROW(All!E163)-1,"")
J178: =IF(AND(OR(AND(All!E164=$B$3,All!G164=$B$4),AND(All!E164=$B$4,All!G164=$B$3)),IF($B$5="All",TRUE(),All!A164=$B$5),IF($B$6="All",TRUE(),All!B164=$B$6),IF($B$7="All",TRUE(),All!C164=$B$7)),ROW(All!E164)-1,"")
J179: =IF(AND(OR(AND(All!E165=$B$3,All!G165=$B$4),AND(All!E165=$B$4,All!G165=$B$3)),IF($B$5="All",TRUE(),All!A165=$B$5),IF($B$6="All",TRUE(),All!B165=$B$6),IF($B$7="All",TRUE(),All!C165=$B$7)),ROW(All!E165)-1,"")
J180: =IF(AND(OR(AND(All!E166=$B$3,All!G166=$B$4),AND(All!E166=$B$4,All!G166=$B$3)),IF($B$5="All",TRUE(),All!A166=$B$5),IF($B$6="All",TRUE(),All!B166=$B$6),IF($B$7="All",TRUE(),All!C166=$B$7)),ROW(All!E166)-1,"")
J181: =IF(AND(OR(AND(All!E167=$B$3,All!G167=$B$4),AND(All!E167=$B$4,All!G167=$B$3)),IF($B$5="All",TRUE(),All!A167=$B$5),IF($B$6="All",TRUE(),All!B167=$B$6),IF($B$7="All",TRUE(),All!C167=$B$7)),ROW(All!E167)-1,"")
... J1014: =IF(AND(OR(AND(All!E1000=$B$3,All!G1000=$B$4),AND(All!E1000=$B$4,All!G1000=$B$3)),IF($B$5="All",TRUE(),All!A1000=$B$5),IF($B$6="All",TRUE(),All!B1000=$B$6),IF($B$7="All",TRUE(),All!C1000=$B$7)),ROW(All!E1000)-1,"")

Sheet Fixture Count
A1: Rank | B1: Player | C1: Non Lge | D1: Conf | E1: Prem | F1: Champ | G1: League | H1: SDSC | I1: Leveller | J1: Champ T | K1: H/W | L1: Cup | M1: WASPA | N1: Friendly | O1: Total
A2: 1 | B2: Simon | C2: =COUNTIFS(All!C:C,"Non Lge",All!E:E,"Simon")+COUNTIFS(All!C:C,"Non Lge",All!G:G,"Simon") -> 0 | D2: =COUNTIFS(All!C:C,"Conf",All!E:E,"Simon")+COUNTIFS(All!C:C,"Conf",All!G:G,"Simon") -> 7 | E2: =COUNTIFS(All!C:C,"Prem",All!E:E,"Simon")+COUNTIFS(All!C:C,"Prem",All!G:G,"Simon") -> 15 | F2: =COUNTIFS(All!C:C,"Champ",All!E:E,"Simon")+COUNTIFS(All!C:C,"Champ",All!G:G,"Simon") -> 0 | G2: =COUNTIFS(All!B:B,"League",All!E:E,"Simon")+COUNTIFS(All!B:B,"League",All!G:G,"Simon") -> 22 | H2: =COUNTIFS(All!C:C,"SDSC",All!E:E,"Simon")+COUNTIFS(All!C:C,"SDSC",All!G:G,"Simon") -> 4 | I2: =COUNTIFS(All!C:C,"Lev",All!E:E,"Simon")+COUNTIFS(All!C:C,"Lev",All!G:G,"Simon") -> 5 | J2: =COUNTIFS(All!C:C,"Ch Trophy",All!E:E,"Simon")+COUNTIFS(All!C:C,"Ch Trophy",All!G:G,"Simon") -> 0 | K2: =COUNTIFS(All!C:C,"HW",All!E:E,"Simon")+COUNTIFS(All!C:C,"HW",All!G:G,"Simon") -> 2 | L2: =COUNTIFS(All!B:B,"Cup",All!E:E,"Simon")+COUNTIFS(All!B:B,"Cup",All!G:G,"Simon") -> 11 | M2: =COUNTIFS(All!B:B,"WASPA",All!E:E,"Simon")+COUNTIFS(All!B:B,"WASPA",All!G:G,"Simon") -> 63 | N2: =COUNTIFS(All!B:B,"Friendly",All!E:E,"Simon")+COUNTIFS(All!B:B,"Friendly",All!G:G,"Simon") -> 7 | O2: =COUNTIF(All!E:E,"Simon")+COUNTIF(All!G:G,"Simon") -> 103
A3: 2 | B3: Oakley | C3: =COUNTIFS(All!C:C,"Non Lge",All!E:E,"Oakley")+COUNTIFS(All!C:C,"Non Lge",All!G:G,"Oakley") -> 0 | D3: =COUNTIFS(All!C:C,"Conf",All!E:E,"Oakley")+COUNTIFS(All!C:C,"Conf",All!G:G,"Oakley") -> 7 | E3: =COUNTIFS(All!C:C,"Prem",All!E:E,"Oakley")+COUNTIFS(All!C:C,"Prem",All!G:G,"Oakley") -> 8 | F3: =COUNTIFS(All!C:C,"Champ",All!E:E,"Oakley")+COUNTIFS(All!C:C,"Champ",All!G:G,"Oakley") -> 7 | G3: =COUNTIFS(All!B:B,"League",All!E:E,"Oakley")+COUNTIFS(All!B:B,"League",All!G:G,"Oakley") -> 22 | H3: =COUNTIFS(All!C:C,"SDSC",All!E:E,"Oakley")+COUNTIFS(All!C:C,"SDSC",All!G:G,"Oakley") -> 6 | I3: =COUNTIFS(All!C:C,"Lev",All!E:E,"Oakley")+COUNTIFS(All!C:C,"Lev",All!G:G,"Oakley") -> 6 | J3: =COUNTIFS(All!C:C,"Ch Trophy",All!E:E,"Oakley")+COUNTIFS(All!C:C,"Ch Trophy",All!G:G,"Oakley") -> 0 | K3: =COUNTIFS(All!C:C,"HW",All!E:E,"Oakley")+COUNTIFS(All!C:C,"HW",All!G:G,"Oakley") -> 1 | L3: =COUNTIFS(All!B:B,"Cup",All!E:E,"Oakley")+COUNTIFS(All!B:B,"Cup",All!G:G,"Oakley") -> 13 | M3: =COUNTIFS(All!B:B,"WASPA",All!E:E,"Oakley")+COUNTIFS(All!B:B,"WASPA",All!G:G,"Oakley") -> 59 | N3: =COUNTIFS(All!B:B,"Friendly",All!E:E,"Oakley")+COUNTIFS(All!B:B,"Friendly",All!G:G,"Oakley") -> 5 | O3: =COUNTIF(All!E:E,"Oakley")+COUNTIF(All!G:G,"Oakley") -> 99
A4: 3 | B4: Bill | C4: =COUNTIFS(All!C:C,"Non Lge",All!E:E,"Bill")+COUNTIFS(All!C:C,"Non Lge",All!G:G,"Bill") -> 0 | D4: =COUNTIFS(All!C:C,"Conf",All!E:E,"Bill")+COUNTIFS(All!C:C,"Conf",All!G:G,"Bill") -> 7 | E4: =COUNTIFS(All!C:C,"Prem",All!E:E,"Bill")+COUNTIFS(All!C:C,"Prem",All!G:G,"Bill") -> 14 | F4: =COUNTIFS(All!C:C,"Champ",All!E:E,"Bill")+COUNTIFS(All!C:C,"Champ",All!G:G,"Bill") -> 0 | G4: =COUNTIFS(All!B:B,"League",All!E:E,"Bill")+COUNTIFS(All!B:B,"League",All!G:G,"Bill") -> 21 | H4: =COUNTIFS(All!C:C,"SDSC",All!E:E,"Bill")+COUNTIFS(All!C:C,"SDSC",All!G:G,"Bill") -> 4 | I4: =COUNTIFS(All!C:C,"Lev",All!E:E,"Bill")+COUNTIFS(All!C:C,"Lev",All!G:G,"Bill") -> 5 | J4: =COUNTIFS(All!C:C,"Ch Trophy",All!E:E,"Bill")+COUNTIFS(All!C:C,"Ch Trophy",All!G:G,"Bill") -> 0 | K4: =COUNTIFS(All!C:C,"HW",All!E:E,"Bill")+COUNTIFS(All!C:C,"HW",All!G:G,"Bill") -> 2 | L4: =COUNTIFS(All!B:B,"Cup",All!E:E,"Bill")+COUNTIFS(All!B:B,"Cup",All!G:G,"Bill") -> 11 | M4: =COUNTIFS(All!B:B,"WASPA",All!E:E,"Bill")+COUNTIFS(All!B:B,"WASPA",All!G:G,"Bill") -> 57 | N4: =COUNTIFS(All!B:B,"Friendly",All!E:E,"Bill")+COUNTIFS(All!B:B,"Friendly",All!G:G,"Bill") -> 5 | O4: =COUNTIF(All!E:E,"Bill")+COUNTIF(All!G:G,"Bill") -> 94
A5: 4 | B5: Marcus | C5: =COUNTIFS(All!C:C,"Non Lge",All!E:E,"Marcus")+COUNTIFS(All!C:C,"Non Lge",All!G:G,"Marcus") -> 0 | D5: =COUNTIFS(All!C:C,"Conf",All!E:E,"Marcus")+COUNTIFS(All!C:C,"Conf",All!G:G,"Marcus") -> 7 | E5: =COUNTIFS(All!C:C,"Prem",All!E:E,"Marcus")+COUNTIFS(All!C:C,"Prem",All!G:G,"Marcus") -> 12 | F5: =COUNTIFS(All!C:C,"Champ",All!E:E,"Marcus")+COUNTIFS(All!C:C,"Champ",All!G:G,"Marcus") -> 0 | G5: =COUNTIFS(All!B:B,"League",All!E:E,"Marcus")+COUNTIFS(All!B:B,"League",All!G:G,"Marcus") -> 19 | H5: =COUNTIFS(All!C:C,"SDSC",All!E:E,"Marcus")+COUNTIFS(All!C:C,"SDSC",All!G:G,"Marcus") -> 2 | I5: =COUNTIFS(All!C:C,"Lev",All!E:E,"Marcus")+COUNTIFS(All!C:C,"Lev",All!G:G,"Marcus") -> 5 | J5: =COUNTIFS(All!C:C,"Ch Trophy",All!E:E,"Marcus")+COUNTIFS(All!C:C,"Ch Trophy",All!G:G,"Marcus") -> 0 | K5: =COUNTIFS(All!C:C,"HW",All!E:E,"Marcus")+COUNTIFS(All!C:C,"HW",All!G:G,"Marcus") -> 1 | L5: =COUNTIFS(All!B:B,"Cup",All!E:E,"Marcus")+COUNTIFS(All!B:B,"Cup",All!G:G,"Marcus") -> 8 | M5: =COUNTIFS(All!B:B,"WASPA",All!E:E,"Marcus")+COUNTIFS(All!B:B,"WASPA",All!G:G,"Marcus") -> 52 | N5: =COUNTIFS(All!B:B,"Friendly",All!E:E,"Marcus")+COUNTIFS(All!B:B,"Friendly",All!G:G,"Marcus") -> 4 | O5: =COUNTIF(All!E:E,"Marcus")+COUNTIF(All!G:G,"Marcus") -> 83
A6: 5 | B6: Bob | C6: =COUNTIFS(All!C:C,"Non Lge",All!E:E,"Bob")+COUNTIFS(All!C:C,"Non Lge",All!G:G,"Bob") -> 0 | D6: =COUNTIFS(All!C:C,"Conf",All!E:E,"Bob")+COUNTIFS(All!C:C,"Conf",All!G:G,"Bob") -> 7 | E6: =COUNTIFS(All!C:C,"Prem",All!E:E,"Bob")+COUNTIFS(All!C:C,"Prem",All!G:G,"Bob") -> 13 | F6: =COUNTIFS(All!C:C,"Champ",All!E:E,"Bob")+COUNTIFS(All!C:C,"Champ",All!G:G,"Bob") -> 0 | G6: =COUNTIFS(All!B:B,"League",All!E:E,"Bob")+COUNTIFS(All!B:B,"League",All!G:G,"Bob") -> 20 | H6: =COUNTIFS(All!C:C,"SDSC",All!E:E,"Bob")+COUNTIFS(All!C:C,"SDSC",All!G:G,"Bob") -> 3 | I6: =COUNTIFS(All!C:C,"Lev",All!E:E,"Bob")+COUNTIFS(All!C:C,"Lev",All!G:G,"Bob") -> 5 | J6: =COUNTIFS(All!C:C,"Ch Trophy",All!E:E,"Bob")+COUNTIFS(All!C:C,"Ch Trophy",All!G:G,"Bob") -> 0 | K6: =COUNTIFS(All!C:C,"HW",All!E:E,"Bob")+COUNTIFS(All!C:C,"HW",All!G:G,"Bob") -> 2 | L6: =COUNTIFS(All!B:B,"Cup",All!E:E,"Bob")+COUNTIFS(All!B:B,"Cup",All!G:G,"Bob") -> 10 | M6: =COUNTIFS(All!B:B,"WASPA",All!E:E,"Bob")+COUNTIFS(All!B:B,"WASPA",All!G:G,"Bob") -> 39 | N6: =COUNTIFS(All!B:B,"Friendly",All!E:E,"Bob")+COUNTIFS(All!B:B,"Friendly",All!G:G,"Bob") -> 3 | O6: =COUNTIF(All!E:E,"Bob")+COUNTIF(All!G:G,"Bob") -> 72
A7: 6 | B7: Martin | C7: =COUNTIFS(All!C:C,"Non Lge",All!E:E,"Martin")+COUNTIFS(All!C:C,"Non Lge",All!G:G,"Martin") -> 3 | D7: =COUNTIFS(All!C:C,"Conf",All!E:E,"Martin")+COUNTIFS(All!C:C,"Conf",All!G:G,"Martin") -> 0 | E7: =COUNTIFS(All!C:C,"Prem",All!E:E,"Martin")+COUNTIFS(All!C:C,"Prem",All!G:G,"Martin") -> 0 | F7: =COUNTIFS(All!C:C,"Champ",All!E:E,"Martin")+COUNTIFS(All!C:C,"Champ",All!G:G,"Martin") -> 3 | G7: =COUNTIFS(All!B:B,"League",All!E:E,"Martin")+COUNTIFS(All!B:B,"League",All!G:G,"Martin") -> 6 | H7: =COUNTIFS(All!C:C,"SDSC",All!E:E,"Martin")+COUNTIFS(All!C:C,"SDSC",All!G:G,"Martin") -> 1 | I7: =COUNTIFS(All!C:C,"Lev",All!E:E,"Martin")+COUNTIFS(All!C:C,"Lev",All!G:G,"Martin") -> 1 | J7: =COUNTIFS(All!C:C,"Ch Trophy",All!E:E,"Martin")+COUNTIFS(All!C:C,"Ch Trophy",All!G:G,"Martin") -> 1 | K7: =COUNTIFS(All!C:C,"HW",All!E:E,"Martin")+COUNTIFS(All!C:C,"HW",All!G:G,"Martin") -> 2 | L7: =COUNTIFS(All!B:B,"Cup",All!E:E,"Martin")+COUNTIFS(All!B:B,"Cup",All!G:G,"Martin") -> 5 | M7: =COUNTIFS(All!B:B,"WASPA",All!E:E,"Martin")+COUNTIFS(All!B:B,"WASPA",All!G:G,"Martin") -> 36 | N7: =COUNTIFS(All!B:B,"Friendly",All!E:E,"Martin")+COUNTIFS(All!B:B,"Friendly",All!G:G,"Martin") -> 4 | O7: =COUNTIF(All!E:E,"Martin")+COUNTIF(All!G:G,"Martin") -> 51
A8: 7 | B8: Peter | C8: =COUNTIFS(All!C:C,"Non Lge",All!E:E,"Peter")+COUNTIFS(All!C:C,"Non Lge",All!G:G,"Peter") -> 0 | D8: =COUNTIFS(All!C:C,"Conf",All!E:E,"Peter")+COUNTIFS(All!C:C,"Conf",All!G:G,"Peter") -> 7 | E8: =COUNTIFS(All!C:C,"Prem",All!E:E,"Peter")+COUNTIFS(All!C:C,"Prem",All!G:G,"Peter") -> 0 | F8: =COUNTIFS(All!C:C,"Champ",All!E:E,"Peter")+COUNTIFS(All!C:C,"Champ",All!G:G,"Peter") -> 11 | G8: =COUNTIFS(All!B:B,"League",All!E:E,"Peter")+COUNTIFS(All!B:B,"League",All!G:G,"Peter") -> 18 | H8: =COUNTIFS(All!C:C,"SDSC",All!E:E,"Peter")+COUNTIFS(All!C:C,"SDSC",All!G:G,"Peter") -> 3 | I8: =COUNTIFS(All!C:C,"Lev",All!E:E,"Peter")+COUNTIFS(All!C:C,"Lev",All!G:G,"Peter") -> 2 | J8: =COUNTIFS(All!C:C,"Ch Trophy",All!E:E,"Peter")+COUNTIFS(All!C:C,"Ch Trophy",All!G:G,"Peter") -> 1 | K8: =COUNTIFS(All!C:C,"HW",All!E:E,"Peter")+COUNTIFS(All!C:C,"HW",All!G:G,"Peter") -> 2 | L8: =COUNTIFS(All!B:B,"Cup",All!E:E,"Peter")+COUNTIFS(All!B:B,"Cup",All!G:G,"Peter") -> 8 | M8: =COUNTIFS(All!B:B,"WASPA",All!E:E,"Peter")+COUNTIFS(All!B:B,"WASPA",All!G:G,"Peter") -> 14 | N8: =COUNTIFS(All!B:B,"Friendly",All!E:E,"Peter")+COUNTIFS(All!B:B,"Friendly",All!G:G,"Peter") -> 3 | O8: =COUNTIF(All!E:E,"Peter")+COUNTIF(All!G:G,"Peter") -> 43
A9: 8 | B9: Mike | C9: =COUNTIFS(All!C:C,"Non Lge",All!E:E,"Mike")+COUNTIFS(All!C:C,"Non Lge",All!G:G,"Mike") -> 3 | D9: =COUNTIFS(All!C:C,"Conf",All!E:E,"Mike")+COUNTIFS(All!C:C,"Conf",All!G:G,"Mike") -> 0 | E9: =COUNTIFS(All!C:C,"Prem",All!E:E,"Mike")+COUNTIFS(All!C:C,"Prem",All!G:G,"Mike") -> 0 | F9: =COUNTIFS(All!C:C,"Champ",All!E:E,"Mike")+COUNTIFS(All!C:C,"Champ",All!G:G,"Mike") -> 2 | G9: =COUNTIFS(All!B:B,"League",All!E:E,"Mike")+COUNTIFS(All!B:B,"League",All!G:G,"Mike") -> 5 | H9: =COUNTIFS(All!C:C,"SDSC",All!E:E,"Mike")+COUNTIFS(All!C:C,"SDSC",All!G:G,"Mike") -> 0 | I9: =COUNTIFS(All!C:C,"Lev",All!E:E,"Mike")+COUNTIFS(All!C:C,"Lev",All!G:G,"Mike") -> 2 | J9: =COUNTIFS(All!C:C,"Ch Trophy",All!E:E,"Mike")+COUNTIFS(All!C:C,"Ch Trophy",All!G:G,"Mike") -> 2 | K9: =COUNTIFS(All!C:C,"HW",All!E:E,"Mike")+COUNTIFS(All!C:C,"HW",All!G:G,"Mike") -> 2 | L9: =COUNTIFS(All!B:B,"Cup",All!E:E,"Mike")+COUNTIFS(All!B:B,"Cup",All!G:G,"Mike") -> 6 | M9: =COUNTIFS(All!B:B,"WASPA",All!E:E,"Mike")+COUNTIFS(All!B:B,"WASPA",All!G:G,"Mike") -> 19 | N9: =COUNTIFS(All!B:B,"Friendly",All!E:E,"Mike")+COUNTIFS(All!B:B,"Friendly",All!G:G,"Mike") -> 1 | O9: =COUNTIF(All!E:E,"Mike")+COUNTIF(All!G:G,"Mike") -> 31
A10: 9 | B10: Pete | C10: =COUNTIFS(All!C:C,"Non Lge",All!E:E,"Pete")+COUNTIFS(All!C:C,"Non Lge",All!G:G,"Pete") -> 0 | D10: =COUNTIFS(All!C:C,"Conf",All!E:E,"Pete")+COUNTIFS(All!C:C,"Conf",All!G:G,"Pete") -> 0 | E10: =COUNTIFS(All!C:C,"Prem",All!E:E,"Pete")+COUNTIFS(All!C:C,"Prem",All!G:G,"Pete") -> 8 | F10: =COUNTIFS(All!C:C,"Champ",All!E:E,"Pete")+COUNTIFS(All!C:C,"Champ",All!G:G,"Pete") -> 7 | G10: =COUNTIFS(All!B:B,"League",All!E:E,"Pete")+COUNTIFS(All!B:B,"League",All!G:G,"Pete") -> 15 | H10: =COUNTIFS(All!C:C,"SDSC",All!E:E,"Pete")+COUNTIFS(All!C:C,"SDSC",All!G:G,"Pete") -> 3 | I10: =COUNTIFS(All!C:C,"Lev",All!E:E,"Pete")+COUNTIFS(All!C:C,"Lev",All!G:G,"Pete") -> 4 | J10: =COUNTIFS(All!C:C,"Ch Trophy",All!E:E,"Pete")+COUNTIFS(All!C:C,"Ch Trophy",All!G:G,"Pete") -> 0 | K10: =COUNTIFS(All!C:C,"HW",All!E:E,"Pete")+COUNTIFS(All!C:C,"HW",All!G:G,"Pete") -> 1 | L10: =COUNTIFS(All!B:B,"Cup",All!E:E,"Pete")+COUNTIFS(All!B:B,"Cup",All!G:G,"Pete") -> 8 | M10: =COUNTIFS(All!B:B,"WASPA",All!E:E,"Pete")+COUNTIFS(All!B:B,"WASPA",All!G:G,"Pete") -> 0 | N10: =COUNTIFS(All!B:B,"Friendly",All!E:E,"Pete")+COUNTIFS(All!B:B,"Friendly",All!G:G,"Pete") -> 4 | O10: =COUNTIF(All!E:E,"Pete")+COUNTIF(All!G:G,"Pete") -> 27
A11: 10 | B11: Ben | C11: =COUNTIFS(All!C:C,"Non Lge",All!E:E,"Ben")+COUNTIFS(All!C:C,"Non Lge",All!G:G,"Ben") -> 0 | D11: =COUNTIFS(All!C:C,"Conf",All!E:E,"Ben")+COUNTIFS(All!C:C,"Conf",All!G:G,"Ben") -> 7 | E11: =COUNTIFS(All!C:C,"Prem",All!E:E,"Ben")+COUNTIFS(All!C:C,"Prem",All!G:G,"Ben") -> 0 | F11: =COUNTIFS(All!C:C,"Champ",All!E:E,"Ben")+COUNTIFS(All!C:C,"Champ",All!G:G,"Ben") -> 9 | G11: =COUNTIFS(All!B:B,"League",All!E:E,"Ben")+COUNTIFS(All!B:B,"League",All!G:G,"Ben") -> 16 | H11: =COUNTIFS(All!C:C,"SDSC",All!E:E,"Ben")+COUNTIFS(All!C:C,"SDSC",All!G:G,"Ben") -> 2 | I11: =COUNTIFS(All!C:C,"Lev",All!E:E,"Ben")+COUNTIFS(All!C:C,"Lev",All!G:G,"Ben") -> 5 | J11: =COUNTIFS(All!C:C,"Ch Trophy",All!E:E,"Ben")+COUNTIFS(All!C:C,"Ch Trophy",All!G:G,"Ben") -> 0 | K11: =COUNTIFS(All!C:C,"HW",All!E:E,"Ben")+COUNTIFS(All!C:C,"HW",All!G:G,"Ben") -> 1 | L11: =COUNTIFS(All!B:B,"Cup",All!E:E,"Ben")+COUNTIFS(All!B:B,"Cup",All!G:G,"Ben") -> 8 | M11: =COUNTIFS(All!B:B,"WASPA",All!E:E,"Ben")+COUNTIFS(All!B:B,"WASPA",All!G:G,"Ben") -> 5 | N11: =COUNTIFS(All!B:B,"Friendly",All!E:E,"Ben")+COUNTIFS(All!B:B,"Friendly",All!G:G,"Ben") -> 2 | O11: =COUNTIF(All!E:E,"Ben")+COUNTIF(All!G:G,"Ben") -> 31
A12: 11 | B12: Seb | C12: =COUNTIFS(All!C:C,"Non Lge",All!E:E,"Seb")+COUNTIFS(All!C:C,"Non Lge",All!G:G,"Seb") -> 0 | D12: =COUNTIFS(All!C:C,"Conf",All!E:E,"Seb")+COUNTIFS(All!C:C,"Conf",All!G:G,"Seb") -> 0 | E12: =COUNTIFS(All!C:C,"Prem",All!E:E,"Seb")+COUNTIFS(All!C:C,"Prem",All!G:G,"Seb") -> 0 | F12: =COUNTIFS(All!C:C,"Champ",All!E:E,"Seb")+COUNTIFS(All!C:C,"Champ",All!G:G,"Seb") -> 12 | G12: =COUNTIFS(All!B:B,"League",All!E:E,"Seb")+COUNTIFS(All!B:B,"League",All!G:G,"Seb") -> 12 | H12: =COUNTIFS(All!C:C,"SDSC",All!E:E,"Seb")+COUNTIFS(All!C:C,"SDSC",All!G:G,"Seb") -> 2 | I12: =COUNTIFS(All!C:C,"Lev",All!E:E,"Seb")+COUNTIFS(All!C:C,"Lev",All!G:G,"Seb") -> 1 | J12: =COUNTIFS(All!C:C,"Ch Trophy",All!E:E,"Seb")+COUNTIFS(All!C:C,"Ch Trophy",All!G:G,"Seb") -> 2 | K12: =COUNTIFS(All!C:C,"HW",All!E:E,"Seb")+COUNTIFS(All!C:C,"HW",All!G:G,"Seb") -> 2 | L12: =COUNTIFS(All!B:B,"Cup",All!E:E,"Seb")+COUNTIFS(All!B:B,"Cup",All!G:G,"Seb") -> 7 | M12: =COUNTIFS(All!B:B,"WASPA",All!E:E,"Seb")+COUNTIFS(All!B:B,"WASPA",All!G:G,"Seb") -> 0 | N12: =COUNTIFS(All!B:B,"Friendly",All!E:E,"Seb")+COUNTIFS(All!B:B,"Friendly",All!G:G,"Seb") -> 3 | O12: =COUNTIF(All!E:E,"Seb")+COUNTIF(All!G:G,"Seb") -> 22
A13: 12 | B13: Alex | C13: =COUNTIFS(All!C:C,"Non Lge",All!E:E,"Alex")+COUNTIFS(All!C:C,"Non Lge",All!G:G,"Alex") -> 2 | D13: =COUNTIFS(All!C:C,"Conf",All!E:E,"Alex")+COUNTIFS(All!C:C,"Conf",All!G:G,"Alex") -> 0 | E13: =COUNTIFS(All!C:C,"Prem",All!E:E,"Alex")+COUNTIFS(All!C:C,"Prem",All!G:G,"Alex") -> 0 | F13: =COUNTIFS(All!C:C,"Champ",All!E:E,"Alex")+COUNTIFS(All!C:C,"Champ",All!G:G,"Alex") -> 0 | G13: =COUNTIFS(All!B:B,"League",All!E:E,"Alex")+COUNTIFS(All!B:B,"League",All!G:G,"Alex") -> 2 | H13: =COUNTIFS(All!C:C,"SDSC",All!E:E,"Alex")+COUNTIFS(All!C:C,"SDSC",All!G:G,"Alex") -> 0 | I13: =COUNTIFS(All!C:C,"Lev",All!E:E,"Alex")+COUNTIFS(All!C:C,"Lev",All!G:G,"Alex") -> 1 | J13: =COUNTIFS(All!C:C,"Ch Trophy",All!E:E,"Alex")+COUNTIFS(All!C:C,"Ch Trophy",All!G:G,"Alex") -> 0 | K13: =COUNTIFS(All!C:C,"HW",All!E:E,"Alex")+COUNTIFS(All!C:C,"HW",All!G:G,"Alex") -> 0 | L13: =COUNTIFS(All!B:B,"Cup",All!E:E,"Alex")+COUNTIFS(All!B:B,"Cup",All!G:G,"Alex") -> 1 | M13: =COUNTIFS(All!B:B,"WASPA",All!E:E,"Alex")+COUNTIFS(All!B:B,"WASPA",All!G:G,"Alex") -> 15 | N13: =COUNTIFS(All!B:B,"Friendly",All!E:E,"Alex")+COUNTIFS(All!B:B,"Friendly",All!G:G,"Alex") -> 2 | O13: =COUNTIF(All!E:E,"Alex")+COUNTIF(All!G:G,"Alex") -> 20
A14: 13 | B14: Kevin | C14: =COUNTIFS(All!C:C,"Non Lge",All!E:E,"Kevin")+COUNTIFS(All!C:C,"Non Lge",All!G:G,"Kevin") -> 0 | D14: =COUNTIFS(All!C:C,"Conf",All!E:E,"Kevin")+COUNTIFS(All!C:C,"Conf",All!G:G,"Kevin") -> 0 | E14: =COUNTIFS(All!C:C,"Prem",All!E:E,"Kevin")+COUNTIFS(All!C:C,"Prem",All!G:G,"Kevin") -> 0 | F14: =COUNTIFS(All!C:C,"Champ",All!E:E,"Kevin")+COUNTIFS(All!C:C,"Champ",All!G:G,"Kevin") -> 1 | G14: =COUNTIFS(All!B:B,"League",All!E:E,"Kevin")+COUNTIFS(All!B:B,"League",All!G:G,"Kevin") -> 1 | H14: =COUNTIFS(All!C:C,"SDSC",All!E:E,"Kevin")+COUNTIFS(All!C:C,"SDSC",All!G:G,"Kevin") -> 0 | I14: =COUNTIFS(All!C:C,"Lev",All!E:E,"Kevin")+COUNTIFS(All!C:C,"Lev",All!G:G,"Kevin") -> 0 | J14: =COUNTIFS(All!C:C,"Ch Trophy",All!E:E,"Kevin")+COUNTIFS(All!C:C,"Ch Trophy",All!G:G,"Kevin") -> 0 | K14: =COUNTIFS(All!C:C,"HW",All!E:E,"Kevin")+COUNTIFS(All!C:C,"HW",All!G:G,"Kevin") -> 0 | L14: =COUNTIFS(All!B:B,"Cup",All!E:E,"Kevin")+COUNTIFS(All!B:B,"Cup",All!G:G,"Kevin") -> 0 | M14: =COUNTIFS(All!B:B,"WASPA",All!E:E,"Kevin")+COUNTIFS(All!B:B,"WASPA",All!G:G,"Kevin") -> 10 | N14: =COUNTIFS(All!B:B,"Friendly",All!E:E,"Kevin")+COUNTIFS(All!B:B,"Friendly",All!G:G,"Kevin") -> 7 | O14: =COUNTIF(All!E:E,"Kevin")+COUNTIF(All!G:G,"Kevin") -> 18
A15: 14 | B15: Rik | C15: =COUNTIFS(All!C:C,"Non Lge",All!E:E,"Rik")+COUNTIFS(All!C:C,"Non Lge",All!G:G,"Rik") -> 0 | D15: =COUNTIFS(All!C:C,"Conf",All!E:E,"Rik")+COUNTIFS(All!C:C,"Conf",All!G:G,"Rik") -> 7 | E15: =COUNTIFS(All!C:C,"Prem",All!E:E,"Rik")+COUNTIFS(All!C:C,"Prem",All!G:G,"Rik") -> 0 | F15: =COUNTIFS(All!C:C,"Champ",All!E:E,"Rik")+COUNTIFS(All!C:C,"Champ",All!G:G,"Rik") -> 0 | G15: =COUNTIFS(All!B:B,"League",All!E:E,"Rik")+COUNTIFS(All!B:B,"League",All!G:G,"Rik") -> 7 | H15: =COUNTIFS(All!C:C,"SDSC",All!E:E,"Rik")+COUNTIFS(All!C:C,"SDSC",All!G:G,"Rik") -> 0 | I15: =COUNTIFS(All!C:C,"Lev",All!E:E,"Rik")+COUNTIFS(All!C:C,"Lev",All!G:G,"Rik") -> 0 | J15: =COUNTIFS(All!C:C,"Ch Trophy",All!E:E,"Rik")+COUNTIFS(All!C:C,"Ch Trophy",All!G:G,"Rik") -> 0 | K15: =COUNTIFS(All!C:C,"HW",All!E:E,"Rik")+COUNTIFS(All!C:C,"HW",All!G:G,"Rik") -> 0 | L15: =COUNTIFS(All!B:B,"Cup",All!E:E,"Rik")+COUNTIFS(All!B:B,"Cup",All!G:G,"Rik") -> 0 | M15: =COUNTIFS(All!B:B,"WASPA",All!E:E,"Rik")+COUNTIFS(All!B:B,"WASPA",All!G:G,"Rik") -> 3 | N15: =COUNTIFS(All!B:B,"Friendly",All!E:E,"Rik")+COUNTIFS(All!B:B,"Friendly",All!G:G,"Rik") -> 0 | O15: =COUNTIF(All!E:E,"Rik")+COUNTIF(All!G:G,"Rik") -> 10
A16: 15 | B16: Adam | C16: =COUNTIFS(All!C:C,"Non Lge",All!E:E,"Adam")+COUNTIFS(All!C:C,"Non Lge",All!G:G,"Adam") -> 0 | D16: =COUNTIFS(All!C:C,"Conf",All!E:E,"Adam")+COUNTIFS(All!C:C,"Conf",All!G:G,"Adam") -> 0 | E16: =COUNTIFS(All!C:C,"Prem",All!E:E,"Adam")+COUNTIFS(All!C:C,"Prem",All!G:G,"Adam") -> 0 | F16: =COUNTIFS(All!C:C,"Champ",All!E:E,"Adam")+COUNTIFS(All!C:C,"Champ",All!G:G,"Adam") -> 0 | G16: =COUNTIFS(All!B:B,"League",All!E:E,"Adam")+COUNTIFS(All!B:B,"League",All!G:G,"Adam") -> 0 | H16: =COUNTIFS(All!C:C,"SDSC",All!E:E,"Adam")+COUNTIFS(All!C:C,"SDSC",All!G:G,"Adam") -> 0 | I16: =COUNTIFS(All!C:C,"Lev",All!E:E,"Adam")+COUNTIFS(All!C:C,"Lev",All!G:G,"Adam") -> 0 | J16: =COUNTIFS(All!C:C,"Ch Trophy",All!E:E,"Adam")+COUNTIFS(All!C:C,"Ch Trophy",All!G:G,"Adam") -> 0 | K16: =COUNTIFS(All!C:C,"HW",All!E:E,"Adam")+COUNTIFS(All!C:C,"HW",All!G:G,"Adam") -> 0 | L16: =COUNTIFS(All!B:B,"Cup",All!E:E,"Adam")+COUNTIFS(All!B:B,"Cup",All!G:G,"Adam") -> 0 | M16: =COUNTIFS(All!B:B,"WASPA",All!E:E,"Adam")+COUNTIFS(All!B:B,"WASPA",All!G:G,"Adam") -> 9 | N16: =COUNTIFS(All!B:B,"Friendly",All!E:E,"Adam")+COUNTIFS(All!B:B,"Friendly",All!G:G,"Adam") -> 0 | O16: =COUNTIF(All!E:E,"Adam")+COUNTIF(All!G:G,"Adam") -> 9
A17: 16 | B17: Tony | C17: =COUNTIFS(All!C:C,"Non Lge",All!E:E,"Tony")+COUNTIFS(All!C:C,"Non Lge",All!G:G,"Tony") -> 0 | D17: =COUNTIFS(All!C:C,"Conf",All!E:E,"Tony")+COUNTIFS(All!C:C,"Conf",All!G:G,"Tony") -> 0 | E17: =COUNTIFS(All!C:C,"Prem",All!E:E,"Tony")+COUNTIFS(All!C:C,"Prem",All!G:G,"Tony") -> 0 | F17: =COUNTIFS(All!C:C,"Champ",All!E:E,"Tony")+COUNTIFS(All!C:C,"Champ",All!G:G,"Tony") -> 0 | G17: =COUNTIFS(All!B:B,"League",All!E:E,"Tony")+COUNTIFS(All!B:B,"League",All!G:G,"Tony") -> 0 | H17: =COUNTIFS(All!C:C,"SDSC",All!E:E,"Tony")+COUNTIFS(All!C:C,"SDSC",All!G:G,"Tony") -> 0 | I17: =COUNTIFS(All!C:C,"Lev",All!E:E,"Tony")+COUNTIFS(All!C:C,"Lev",All!G:G,"Tony") -> 0 | J17: =COUNTIFS(All!C:C,"Ch Trophy",All!E:E,"Tony")+COUNTIFS(All!C:C,"Ch Trophy",All!G:G,"Tony") -> 0 | K17: =COUNTIFS(All!C:C,"HW",All!E:E,"Tony")+COUNTIFS(All!C:C,"HW",All!G:G,"Tony") -> 0 | L17: =COUNTIFS(All!B:B,"Cup",All!E:E,"Tony")+COUNTIFS(All!B:B,"Cup",All!G:G,"Tony") -> 0 | M17: =COUNTIFS(All!B:B,"WASPA",All!E:E,"Tony")+COUNTIFS(All!B:B,"WASPA",All!G:G,"Tony") -> 7 | N17: =COUNTIFS(All!B:B,"Friendly",All!E:E,"Tony")+COUNTIFS(All!B:B,"Friendly",All!G:G,"Tony") -> 0 | O17: =COUNTIF(All!E:E,"Tony")+COUNTIF(All!G:G,"Tony") -> 7

Sheet All
A1: Season | B1: Comp | C1: Specific | D1: Round | E1: Home | F1: H Goals | G1: Away | H1: A Goals | I1: Shots Win
A2: 0 | B2: WASPA | C2: WASPA | D2: Group | E2: Adam | F2: 0 | G2: Bill | H2: 2 | I2: n/a
A3: 0 | B3: WASPA | C3: WASPA | D3: Group | E3: Simon | F3: 6 | G3: Bill | H3: 0 | I3: n/a
A4: 0 | B4: WASPA | C4: WASPA | D4: Group | E4: Simon | F4: 3 | G4: Adam | H4: 0 | I4: n/a
A5: 0 | B5: WASPA | C5: WASPA | D5: Group | E5: Adam | F5: 1 | G5: Marcus | H5: 1 | I5: n/a
A6: 0 | B6: WASPA | C6: WASPA | D6: Group | E6: Adam | F6: 1 | G6: Peter | H6: 0 | I6: n/a
A7: 0 | B7: WASPA | C7: WASPA | D7: Group | E7: Bob | F7: 1 | G7: Peter | H7: 0 | I7: n/a
A8: 0 | B8: WASPA | C8: WASPA | D8: Group | E8: Bob | F8: 4 | G8: Adam | H8: 0 | I8: n/a
A9: 0 | B9: WASPA | C9: WASPA | D9: Group | E9: Bill | F9: 0 | G9: Marcus | H9: 4 | I9: n/a
A10: 0 | B10: WASPA | C10: WASPA | D10: Group | E10: Bob | F10: 1 | G10: Marcus | H10: 1 | I10: n/a
A11: 0 | B11: WASPA | C11: WASPA | D11: Group | E11: Bob | F11: 3 | G11: Bill | H11: 0 | I11: n/a
A12: 0 | B12: WASPA | C12: WASPA | D12: Group | E12: Simon | F12: 0 | G12: Marcus | H12: 0 | I12: n/a
A13: 0 | B13: WASPA | C13: WASPA | D13: Group | E13: Peter | F13: 0 | G13: Marcus | H13: 3 | I13: n/a
... A361: 1 | B361: WASPA | C361: WASPA | D361: Group | E361: Tony | F361: 1 | G361: Bob | H361: 2 | I361: n/a

Sheet Lists
A1: Players | B1: Seasons | C1: Competitions | D1: Specific | F1: FilterAll | G1: All | H1: All | I1: All | N1: Season 0 | O1: 45505 | P1: 45870
A2: Rik | B2: 0 | C2: League | D2: Conf | G2: 0 | H2: League | I2: Conf
A3: Bill | B3: 1 | C3: Cup | D3: Prem | G3: 1 | H3: Cup | I3: Prem | N3: Season 1 | O3: 45901 | P3: 46143
A4: Marcus | B4: 2 | C4: Friendly | D4: Champ | G4: 2 | H4: Friendly | I4: Champ
A5: Oakley | C5: WASPA | D5: Non Lge | H5: WASPA | I5: Non Lge | N5: Season 2 | O5: 46174 | P5: 46419
A6: Simon | D6: SDSC | I6: SDSC
A7: Peter | D7: Lev | I7: Lev | N7: Season 3 | O7: 46447 | P7: 46631
A8: Bob | D8: HW | I8: HW
A9: Ben | D9: Ch Trophy | I9: Ch Trophy
A10: Seb | D10: Friendly | I10: Friendly
A11: Pete | D11: WASPA | I11: WASPA
A12: Adam | D12: PUC | I12: PUC
A13: Alex | D13: CWC | I13: CWC
A14: Martin
A15: Mike
A16: Tony
A17: Kevin
